BEGIN:VCALENDAR
VERSION:2.0
PRODID:-//ChamberMaster//Event Calendar 2.0//EN
METHOD:PUBLISH
X-PUBLISHED-TTL:P3D
REFRESH-INTERVAL:P3D
CALSCALE:GREGORIAN
BEGIN:VEVENT
DTSTART;VALUE=DATE:20110308
DTEND;VALUE=DATE:20110309
TRANSP:TRANSPARENT
X-MICROSOFT-CDO-ALLDAYEVENT:TRUE
SUMMARY:Worker's Compensation Seminar
DESCRIPTION:William Knight Insurance Agency and Builders Mutual Insurance Company present Worker's Compensation Changes PC 1149 and New Chapter 9 The presentation includes a question and answer session regarding the new Worker's Compensation law that requires everyone under the governing construction class codes to carry Worker's Compensation insurance\, effective March 1\, 2011. The new law does allow some exemptions from the new law\, and these exemptions will be addressed in detail. RSVP to WKIA at 865-670-2990 or email at wkia@wkia.us.
X-ALT-DESC;FMTTYPE=text/html:<p><strong><span style=font-size: larger>William Knight Insurance Agency and Builders Mutual Insurance Company present Worker&rsquo\;s Compensation Changes PC 1149 and New Chapter 9</span></strong></p> <p>The presentation includes a question and answer session regarding the new Worker&rsquo\;s Compensation law that requires everyone under the governing construction class codes to carry Worker&rsquo\;s Compensation insurance\, effective March 1\, 2011. <u>The new law does allow some exemptions from the new law\, and these exemptions will be addressed in detail.</u></p> <p>RSVP to WKIA at 865-670-2990 or email at <a href=mailto:wkia@wkia.us>wkia@wkia.us</a>.</p>
LOCATION:221 Clark Street\, NW Knoxville\, TN
UID:e.9402.268
SEQUENCE:3
DTSTAMP:20260423T123049Z
URL:http://hbaknoxvilletn.memberzone.com/events/details/worker-s-compensation-seminar-03-08-2011-268
END:VEVENT

END:VCALENDAR
