BEGIN:VCALENDAR
VERSION:2.0
PRODID:-//ChamberMaster//Event Calendar 2.0//EN
METHOD:PUBLISH
X-PUBLISHED-TTL:P3D
REFRESH-INTERVAL:P3D
CALSCALE:GREGORIAN
BEGIN:VEVENT
DTSTART;VALUE=DATE:20121210
DTEND;VALUE=DATE:20121211
TRANSP:TRANSPARENT
X-MICROSOFT-CDO-ALLDAYEVENT:TRUE
SUMMARY:TN Building Officials Association Seminar
DESCRIPTION:TBOA is excited to announce the following continuing educational seminar for Code Enforcement Officials\, Building Contractors and Design Professionals. The course can be submitted for approval for State Agency CEU's in GA\, NC\, and SC. This course is already approved by the state of TN. It should be acceptable for Architect and Engineer Credits but they have to submit it for approval to the respective agency.\n  \n Registration is available to the first 49 paid applicants and includes workbook and breaks.  Don't hesitate as this class will fill up quickly. Participants should bring the 2012 Edition of the International Residential Code to the class.  \n \n 2012 IRC Fundamentals Building Provisions. This 6-hour seminar examines critical concepts of the building and energy provisions located in Chapters 1 to 11 of the 2012 International Residential Code(r) (IRC(r)). It provides a basis for the correct use and application of the code and builds on an understanding of the intent of the code through practice with real-world examples.\n \n Payment must be made by check\, payable to "TBOA" and mailed to Keith Bruner\, 201 W. Market Street\, Kingsport\, TN 37660. You may e-mail Keith Bruner at keithbruner@kingsporttn.gov or fax to his attention 423-224-2680 your registration to hold a place. Cash\, or check payment will be accepted at the door. If you register but do not attend\, there will be a $10.00 no-show charge as TBOA will have to return the workbook and pay shipping charges.
X-ALT-DESC;FMTTYPE=text/html:TBOA is excited to announce the following continuing educational seminar for Code Enforcement Officials\, Building Contractors and Design Professionals. The course can be submitted for approval for State Agency CEU&rsquo\;s in GA\, NC\, and SC. This course is already approved by the state of TN. It should be acceptable for Architect and Engineer Credits but they have to submit it for approval to the respective agency.<br> &nbsp\;<br> <span style=font-size: 10pt><span style=font-family: arial\,sans-serif>Registration is available to the first 49 paid applicants and includes workbook and breaks. &nbsp\;Don&rsquo\;t hesitate as this class will fill up quickly. Participants should bring the 2012 Edition of the International Residential Code to the class.&nbsp\;&nbsp\;<br> <br> <strong><span style=font-size: 10pt><span style=font-family: arial\,sans-serif>2012 IRC Fundamentals Building Provisions. </span></span></strong><span style=font-size: 10pt><span style=font-family: arial\,sans-serif>This 6-hour seminar examines critical concepts of the building and energy provisions located in Chapters 1 to 11 of the 2012 International Residential Code(r) (IRC(r)). It provides a basis for the correct use and application of the code and builds on an understanding of the intent of the code through practice with real-world examples.</span></span></span></span><br> <br> <span style=font-size: 10pt><span style=font-family: arial\,sans-serif>Payment must be made by check\, payable to &ldquo\;TBOA&rdquo\; and mailed to Keith Bruner\, 201 W. Market Street\, Kingsport\, TN 37660. You may e-mail Keith Bruner at <a href=mailto:keithbruner@kingsporttn.gov>keithbruner@kingsporttn.gov</a> or fax to his attention </span></span><span style=font-size: 10pt><span style=font-family: arial\,sans-serif>423-224-2680</span></span> <span style=font-size: 10pt><span style=font-family: arial\,sans-serif>your registration to hold a place. Cash\, or check payment will be accepted at the door. If you register but do not attend\, there will be a $10.00 no-show charge as TBOA will have to return the workbook and pay shipping charges.</span></span><br>
LOCATION:114 Tulsa Road Oak Ridge\, TN
UID:e.9402.471
SEQUENCE:3
DTSTAMP:20260421T073836Z
URL:http://hbaknoxvilletn.memberzone.com/events/details/tn-building-officials-association-seminar-12-10-2012-471
END:VEVENT

END:VCALENDAR
