BEGIN:VCALENDAR
VERSION:2.0
PRODID:-//ChamberMaster//Event Calendar 2.0//EN
METHOD:PUBLISH
X-PUBLISHED-TTL:P3D
REFRESH-INTERVAL:P3D
CALSCALE:GREGORIAN
BEGIN:VEVENT
DTSTART;VALUE=DATE:20140729
DTEND;VALUE=DATE:20140730
TRANSP:TRANSPARENT
X-MICROSOFT-CDO-ALLDAYEVENT:TRUE
SUMMARY:Stover's wedi Shower System
DESCRIPTION:Attend the FREE wedi shower system Product Demonstration & Certification Class to learn how wedi:\nIs highly customizable\nIs a mold proof system\nReduces jobsite mess and disruption\nFunctions as a crack isolation membrane\nReplaces the mud pan and liner process\nIs ideal for steam rooms\nIs extremely easy to cut and fabricate using basic tools\nEliminates applications of waterproof roll on membranes\nReplaces heavy concrete boards that are not waterproof\nExpedites construction and installation schedule - complete showers prepped in 2-3 hours\nIs a single source\, 30+ year time proven 100% waterproof shower system made in Germany\nFor questions or to register for this event please contact Curt Hitt at Stover's: 865-523-4449\n*Paid member advertisement
X-ALT-DESC;FMTTYPE=text/html:<div><br></div><div>Attend the FREE wedi shower system Product Demonstration &amp\; Certification Class to learn how wedi:</div><div><br></div><div><ul><li><span style=line-height: 1.428571429\;>Is highly customizable</span><br></li><li><span style=line-height: 1.428571429\;>Is a mold proof system</span><br></li><li><span style=line-height: 1.428571429\;>Reduces jobsite mess and disruption</span><br></li><li><span style=line-height: 1.428571429\;>Functions as a crack isolation membrane</span><br></li><li><span style=line-height: 1.428571429\;>Replaces the mud pan and liner process</span><br></li><li><span style=line-height: 1.428571429\;>Is ideal for steam rooms</span><br></li><li><span style=line-height: 1.428571429\;>Is extremely easy to cut and fabricate using basic tools</span><br></li><li><span style=line-height: 1.428571429\;>Eliminates applications of waterproof roll on membranes</span><br></li><li><span style=line-height: 1.428571429\;>Replaces heavy concrete boards that are not waterproof</span><br></li><li><span style=line-height: 1.428571429\;>Expedites construction and installation schedule - complete showers prepped in 2-3 hours</span><br></li><li><span style=line-height: 1.428571429\;>Is a single source\, 30+ year time proven 100% waterproof&nbsp\;</span><span style=line-height: 1.428571429\;>shower system made in Germany</span><br></li></ul></div><div><span style=line-height: 1.428571429\;>For questions or to register for this event please contact Curt Hitt at Stover's: 865-523-4449</span><br></div><div><span style=line-height: 1.428571429\;>*Paid member advertisement</span></div><div><span style=line-height: 1.428571429\;><br></span></div>
LOCATION:4505 Asheville HWY Knoxville\, TN
UID:e.9402.620
SEQUENCE:3
DTSTAMP:20260419T174135Z
URL:http://hbaknoxvilletn.memberzone.com/events/details/stover-s-wedi-shower-system-07-29-2014-620
END:VEVENT

END:VCALENDAR
