BEGIN:VCALENDAR
VERSION:2.0
PRODID:-//ChamberMaster//Event Calendar 2.0//EN
METHOD:PUBLISH
X-PUBLISHED-TTL:P3D
REFRESH-INTERVAL:P3D
CALSCALE:GREGORIAN
BEGIN:VEVENT
DTSTART;VALUE=DATE:20140220
DTEND;VALUE=DATE:20140221
TRANSP:TRANSPARENT
X-MICROSOFT-CDO-ALLDAYEVENT:TRUE
SUMMARY:RESCHEDULED Membership Committee - Thursday 2/20
DESCRIPTION:Due to a conflict the Membership Committee has been RESCHEDULED to meet THURSDAY\, 2/20/14\, at the ProBuild office\, workplace of Chair Brian Forward. We are looking for input and new ideas from this committee to help our members make the most of their membership with us. Please let us know if you will attend the meeting so we can plan accordingly. Lunch will be provided or you can bring your own to the meeting. Our membership meeting for this month is on the same day at Ferguson's showroom\, 5 - 7 PM. Invite a Builder to attend!The Parade of Homes incentive form is attached if you have a special offer for Parade Builders this year. Current participants include: Arrow Exterminating\, Fireside Hearth & Home\, Paul's Home Improvement\, Prestige Design Flooring & ProBuild. \n    \n    HBAGK Twitter: https://twitter.com/HBAGK\n    HBAGK Facebook: http://www.facebook.com/#!/pages/Home-Builders-Association-of-Greater-Knoxville/120653504698611?bookmark_t=page\n    \n    (You can retrieve your login name & password by clicking the registration link in this message then following the prompt using your email address to have the information sent to you)
X-ALT-DESC;FMTTYPE=text/html:<p>Due to a conflict the Membership Committee has been RESCHEDULED to meet THURSDAY\, 2/20/14\, at the ProBuild office\, workplace of Chair Brian Forward. We are looking for input and new ideas from this committee to help our members make the most of their membership with us. Please let us know if you will attend the meeting so we can plan accordingly. Lunch will be provided or you can bring your own to the meeting.&nbsp\;</p><p>Our membership meeting for this month is on the same day at Ferguson's showroom\, 5 - 7 PM. Invite a Builder to attend!</p><p>The Parade of Homes incentive form is attached if you have a special offer for Parade Builders this year. Current participants include: Arrow Exterminating\, Fireside Hearth &amp\; Home\, Paul's Home Improvement\, Prestige Design Flooring &amp\; ProBuild.&nbsp\;<br>    <br>    HBAGK Twitter: <a href=https://twitter.com/HBAGK>https://twitter.com/HBAGK</a><br>    HBAGK Facebook: <a href=http://www.facebook.com/#!/pages/Home-Builders-Association-of-Greater-Knoxville/120653504698611?bookmark_t=page>http://www.facebook.com/#!/pages/Home-Builders-Association-of-Greater-Knoxville/120653504698611?bookmark_t=page</a><br>    <br>    <span style=background-color: #ffff00><strong>(You can retrieve your login name &amp\; password by clicking the registration link in this message then following the prompt using your email address to have the information sent to you)</strong></span><br><br></p>
LOCATION:10600 Lexington Drive Knoxville\, TN
UID:e.9402.585
SEQUENCE:3
DTSTAMP:20260420T024741Z
URL:http://hbaknoxvilletn.memberzone.com/events/details/rescheduled-membership-committee-thursday-2-20-02-20-2014-585
END:VEVENT

END:VCALENDAR
