BEGIN:VCALENDAR
VERSION:2.0
PRODID:-//ChamberMaster//Event Calendar 2.0//EN
METHOD:PUBLISH
X-PUBLISHED-TTL:P3D
REFRESH-INTERVAL:P3D
CALSCALE:GREGORIAN
BEGIN:VEVENT
DTSTART;VALUE=DATE:20111115
DTEND;VALUE=DATE:20111116
TRANSP:TRANSPARENT
X-MICROSOFT-CDO-ALLDAYEVENT:TRUE
SUMMARY:Remodelers Committee
DESCRIPTION:The HBAGK Remodelers Committee will meet at the HBAGK office on Tuesday\, NOV 15 at 10:00 AM to plan for 2012. We will discuss a potential Remodelers event with ORNL for "deep retro fits" focusing on energy effeciency. Please respond to let us know if you will attend the meeting.
X-ALT-DESC;FMTTYPE=text/html:<p>The HBAGK Remodelers Committee will meet at the HBAGK office on Tuesday\, NOV 15 at 10:00 AM to plan for 2012. We will discuss a potential Remodelers event with ORNL for &quot\;deep retro fits&quot\; focusing on energy effeciency. Please respond to let us know if you will attend the meeting.</p>
LOCATION:221 Clark Street\, NW Knoxville\, TN
UID:e.9402.356
SEQUENCE:3
DTSTAMP:20260422T175313Z
URL:http://hbaknoxvilletn.memberzone.com/events/details/remodelers-committee-11-15-2011-356
END:VEVENT

END:VCALENDAR
