BEGIN:VCALENDAR
VERSION:2.0
PRODID:-//ChamberMaster//Event Calendar 2.0//EN
METHOD:PUBLISH
X-PUBLISHED-TTL:P3D
REFRESH-INTERVAL:P3D
CALSCALE:GREGORIAN
BEGIN:VEVENT
DTSTART;VALUE=DATE:20110503
DTEND;VALUE=DATE:20110504
TRANSP:TRANSPARENT
X-MICROSOFT-CDO-ALLDAYEVENT:TRUE
SUMMARY:Remodelers Committee
DESCRIPTION:The HBAGK Remodelers Committee will meet at the HBAGK office to plan for 2011. We will discuss goals\, meeting locations and remodeler recruitment. Please respond to let us know if you will attend the meeting.
X-ALT-DESC;FMTTYPE=text/html:<p>The HBAGK Remodelers Committee will meet at the HBAGK office to plan for 2011. We will discuss goals\, meeting locations and remodeler recruitment. Please respond to let us know if you will attend the meeting.</p>
LOCATION:221 Clark Street\, NW Knoxville\, TN
UID:e.9402.291
SEQUENCE:3
DTSTAMP:20260423T063231Z
URL:http://hbaknoxvilletn.memberzone.com/events/details/remodelers-committee-05-03-2011-291
END:VEVENT

END:VCALENDAR
