BEGIN:VCALENDAR
VERSION:2.0
PRODID:-//ChamberMaster//Event Calendar 2.0//EN
METHOD:PUBLISH
X-PUBLISHED-TTL:P3D
REFRESH-INTERVAL:P3D
CALSCALE:GREGORIAN
BEGIN:VEVENT
DTSTART;VALUE=DATE:20120427
DTEND;VALUE=DATE:20120428
TRANSP:TRANSPARENT
X-MICROSOFT-CDO-ALLDAYEVENT:TRUE
SUMMARY:Remodelers Committee
DESCRIPTION:The HBAGK Remodelers Committee will meet at Lowe's West store location for their Commercial Appreciation Cookout. This is an opportunity to view product demonstrations and learn about special offers via your NAHB membership. Complimentary lunch will be provided.\n    \n    This is also a prime opportunity to visit with other Remodelers who may not be members with us and explain the benefits of belonging to our association. One of the top membership services we have is the Workers Compensation program through our state office called the Home Builders Association of TN Self Insured Trust (HBAT-SIT). This benefit saves our members A LOT of money and they have a new website that explains their services\, see sample below: \n    \n    Welcome To Our Website! We are pleased to introduce our new website to members of the Home Builders Association of Tennessee Self-Insured Trust (HBATSIT) and to prospective members of the group. As we move forward in the coming months\, new resources and capabilities will be made available to members to further enhance the value of our products and services. The HBATSIT is a self-insured trust that provides workers' compensation protection to members of the trust across the state of Tennessee. The trust serves a wide range of clients in the homebuilding business and trades. Examples of clients we serve in the homebuilding industry include: \n \n                        Bricklayers            Painters            Counter Top Installers                          Electricians            Carpenters            Electronics/Network Installers                          Framers            Roofers            Solar System Installers                          Plumbers            Flooring            Insulation Installers                          Dry Wallers            Masonary            Siding Installers              \n  \n  \n \n \n \n \n \n Unlike a traditional insurance company that provides workers' compensation to a many industries\, HBATSIT focuses exclusively on the homebuilding industry. As a result\, our experience and expertise in the homebuilding business enables us to provide a measure of service and support to clients that others simply cannot meet. Provided below are key points to consider relative to the trust:\n     Founded\, owned and managed by home builder members to meet their workers' compensation needs    Designed to smooth out the inevitable ups and downs of the insurance business cycle    Enables members to obtain workers' compensation on an at-cost basis    Members have ownership in the trust and opportunity to earn dividends    HBATSIT has been serving the needs of members of the homebuilding industry since 1995  We invite you to explore the website to learn more about the HBATSIT and visit often as we add more resources and capabilities to the site.
X-ALT-DESC;FMTTYPE=text/html:<p>The HBAGK Remodelers Committee will meet at Lowe&#39\;s West store location for their Commercial&nbsp\;Appreciation&nbsp\;Cookout.&nbsp\;This is an opportunity to view product demonstrations and learn about special offers via your NAHB membership. Complimentary lunch will be provided.<br>    <br>    This is also a prime opportunity to visit with other Remodelers who may not be members with us and explain the benefits of belonging to our association. One of the top membership&nbsp\;services we have is the Workers Compensation program through our state office called the Home Builders Association of TN Self Insured Trust (HBAT-SIT).&nbsp\;This benefit saves our members A LOT of money and they have a new website that&nbsp\;explains their services\, see sample below:&nbsp\;<br>    <br>    <a href=http://www.homebuilderscomp.com><strong>Welcome To Our Website!</strong></a></p> <p>We are pleased to introduce our new website to members of the <strong>Home Builders Association of Tennessee Self-Insured Trust (HBATSIT)</strong> and to prospective members of the group. As we move forward in the coming months\, new resources and capabilities will be made available to members to further enhance the value of our products and services. The HBATSIT is a self-insured trust that provides workers&#39\; compensation protection to members of the trust across the state of Tennessee. The trust serves a wide range of clients in the homebuilding business and trades. Examples of clients we serve in the homebuilding industry include:</p> <br> <br> <table align=left border=0 style=width: 400px>    <tbody>       <tr>          <td><strong>&gt\;</strong> Bricklayers</td>          <td><strong>&gt\;</strong> Painters</td>          <td><strong>&gt\;</strong> Counter Top Installers</td>       </tr>       <tr>          <td><strong>&gt\;</strong> Electricians</td>          <td><strong>&gt\;</strong> Carpenters</td>          <td><strong>&gt\;</strong> Electronics/Network Installers</td>       </tr>       <tr>          <td><strong>&gt\;</strong> Framers</td>          <td><strong>&gt\;</strong> Roofers</td>          <td><strong>&gt\;</strong> Solar System Installers</td>       </tr>       <tr>          <td><strong>&gt\;</strong> Plumbers</td>          <td><strong>&gt\;</strong> Flooring</td>          <td><strong>&gt\;</strong> Insulation Installers</td>       </tr>       <tr>          <td><strong>&gt\;</strong> Dry Wallers</td>          <td><strong>&gt\; </strong>Masonary</td>          <td><strong>&gt\;</strong> Siding Installers</td>       </tr>    </tbody> </table> &nbsp\;<br> &nbsp\;<br> &nbsp\;<br> <br> <br> <br> <br> <br> <span style=background-color: #ffff00>Unlike a traditional insurance company that provides workers&#39\; compensation to a many industries\, HBATSIT focuses exclusively on the homebuilding industry</span>. As a result\, our experience and expertise in the homebuilding business enables us to provide a measure of service and support to clients that others simply cannot meet. Provided below are key points to consider relative to the trust:<br> <ul>    <li>Founded\, owned and managed by home builder members to meet their workers&#39\; compensation needs</li>    <li>Designed to smooth out the inevitable ups and downs of the insurance business cycle</li>    <li>Enables members to obtain workers&#39\; compensation on an at-cost basis</li>    <li>Members have ownership in the trust and opportunity to earn dividends</li>    <li>HBATSIT has been serving the needs of members of the homebuilding industry since 1995</li> </ul> <p>We invite you to explore the website to learn more about the HBATSIT and visit often as we add more resources and capabilities to the site.&nbsp\;&nbsp\;<br>    <br>    &nbsp\;</p>
LOCATION:210 N. Peters Road Knoxville\, TN
UID:e.9402.407
SEQUENCE:3
DTSTAMP:20260422T055312Z
URL:http://hbaknoxvilletn.memberzone.com/events/details/remodelers-committee-04-27-2012-407
END:VEVENT

END:VCALENDAR
