BEGIN:VCALENDAR
VERSION:2.0
PRODID:-//ChamberMaster//Event Calendar 2.0//EN
METHOD:PUBLISH
X-PUBLISHED-TTL:P3D
REFRESH-INTERVAL:P3D
CALSCALE:GREGORIAN
BEGIN:VEVENT
DTSTART;VALUE=DATE:20101020
DTEND;VALUE=DATE:20101021
TRANSP:TRANSPARENT
X-MICROSOFT-CDO-ALLDAYEVENT:TRUE
SUMMARY:POSTPONED - Parade of Homes Committee
DESCRIPTION:The Parade of Homes wrap-up meeting on Wednesday\, October 20 at 12:00 pm at the HBAGK office has been POSTPONED. We will let you know when the meeting is rescheduled and apologize for any inconvenience. Thank you for volunteering to serve on this important committee.
X-ALT-DESC;FMTTYPE=text/html:<div id=vcontent> <p><strong><span style=color: #ff0000>The Parade of Homes wrap-up meeting on Wednesday\,&nbsp\;October 20 at 12:00 pm&nbsp\;at the HBAGK office has been POSTPONED</span></strong>.&nbsp\;We will let you know when the meeting is rescheduled and apologize for any inconvenience.</p> <p>Thank you for volunteering to serve on this important committee.</p> </div>
LOCATION:221 Clark Street\, NW Knoxville\, TN
UID:e.9402.247
SEQUENCE:3
DTSTAMP:20260424T023631Z
URL:http://hbaknoxvilletn.memberzone.com/events/details/postponed-parade-of-homes-committee-10-20-2010-247
END:VEVENT

END:VCALENDAR
