BEGIN:VCALENDAR
VERSION:2.0
PRODID:-//ChamberMaster//Event Calendar 2.0//EN
METHOD:PUBLISH
X-PUBLISHED-TTL:P3D
REFRESH-INTERVAL:P3D
CALSCALE:GREGORIAN
BEGIN:VEVENT
DTSTART;VALUE=DATE:20080828
DTEND;VALUE=DATE:20080829
TRANSP:TRANSPARENT
X-MICROSOFT-CDO-ALLDAYEVENT:TRUE
SUMMARY:POSTPONED - Economic Benefits & Green Solutions with Engineered Wood
DESCRIPTION:POSTPONED - Economic Benefits & Green Solutions with Engineered Wood -  Due to an unanticipated scheduling conflict we will NOT be hosting the APA seminar as originally scheduled. We apologize for the inconvenience and will try to reschedule this for another date. August 28\, 2008 12:00 PM at the HBAGK Office FREE Admission for BUILDER Members ($10 lunch available)   The presentation will feature Bryan Readling of the APA - The Engineered Wood Association as our speaker. Mr. Readling will discuss ways to implement Green applications for builders and address economic benefits of working with engineered wood. He will also be available to answer your questions.   The program is free of charge\, but due to limited seating in our meeting room\, SPACE IS LIMITED. Please register to attend!! **FIRST COME\, FIRST SERVED**
X-ALT-DESC;FMTTYPE=text/html:<p><b><span style=color: #ff0000><span>POSTPONED </span></span></b><span style=color: #ff0000 /><b><span style=color: navy>- Economic Benefits &amp\; Green Solutions with Engineered Wood -&nbsp\;</span></b><span style=color: maroon> Due to an unanticipated scheduling conflict we will NOT be hosting the APA seminar as originally scheduled. We apologize for the inconvenience and will try to reschedule this for another date.</span></p> <div><span style=color: maroon>August 28\, 2008</span></div> <div style=margin: 0in 0in 0pt><span style=color: maroon>12:00 PM&nbsp\;at the HBAGK Office</span></div> <div style=margin: 0in 0in 0pt><span style=color: maroon>FREE Admission for BUILDER Members ($10 lunch available)</span></div> <div style=margin: 0in 0in 0pt>&nbsp\;</div> <div style=margin: 0in 0in 0pt><strike>The presentation will feature Bryan Readling of the APA - The Engineered Wood Association as our speaker. Mr. Readling&nbsp\;will discuss ways to implement Green&nbsp\;applications for builders and address economic benefits of working with engineered wood. He will also be available to answer your questions.</strike></div> <div style=margin: 0in 0in 0pt><strike>&nbsp\;</strike></div> <div style=margin: 0in 0in 0pt><strike>The program is free of charge\, but due to limited seating in our meeting room\, SPACE IS LIMITED. Please register to attend!! <i>**FIRST COME\, FIRST SERVED**</i></strike></div>
LOCATION:221 Clark St. NW Knoxville\, TN
UID:e.9402.129
SEQUENCE:3
DTSTAMP:20260426T041021Z
URL:http://hbaknoxvilletn.memberzone.com/events/details/postponed-economic-benefits-green-solutions-with-engineered-wood-08-28-2008-129
END:VEVENT

END:VCALENDAR
