BEGIN:VCALENDAR
VERSION:2.0
PRODID:-//ChamberMaster//Event Calendar 2.0//EN
METHOD:PUBLISH
X-PUBLISHED-TTL:P3D
REFRESH-INTERVAL:P3D
CALSCALE:GREGORIAN
BEGIN:VEVENT
DTSTART;VALUE=DATE:20101019
DTEND;VALUE=DATE:20101020
TRANSP:TRANSPARENT
X-MICROSOFT-CDO-ALLDAYEVENT:TRUE
SUMMARY:POSTPONED - 2011 Home Show Committee
DESCRIPTION:Due to a scheduling conflict the Home Show Committee meeting on Tuesday\, October 19 has been POSTPONED. We will inform you of the new meeting time and date as soon as possible. Registration form\, rules and floor plan available at www.therealhomeshow.com.
X-ALT-DESC;FMTTYPE=text/html:<p><span style=font-size: 9pt\; line-height: 115% /></p> <p><span style=font-family: Tahoma>Due to a scheduling conflict the Home Show Committee meeting on Tuesday\,&nbsp\;October 19&nbsp\;has been POSTPONED.&nbsp\;We will inform you of the new meeting time and date as soon as possible.</span></p> <p>Registration form\, rules and floor plan available at <a href=http://www.therealhomeshow.com>www.therealhomeshow.com</a>.</p>
LOCATION:221 Clark Street\, NW Knoxville\, TN
UID:e.9402.246
SEQUENCE:3
DTSTAMP:20260424T024522Z
URL:http://hbaknoxvilletn.memberzone.com/events/details/postponed-2011-home-show-committee-10-19-2010-246
END:VEVENT

END:VCALENDAR
