BEGIN:VCALENDAR
VERSION:2.0
PRODID:-//ChamberMaster//Event Calendar 2.0//EN
METHOD:PUBLISH
X-PUBLISHED-TTL:P3D
REFRESH-INTERVAL:P3D
CALSCALE:GREGORIAN
BEGIN:VEVENT
DTSTART;VALUE=DATE:20131112
DTEND;VALUE=DATE:20131113
TRANSP:TRANSPARENT
X-MICROSOFT-CDO-ALLDAYEVENT:TRUE
SUMMARY:Parade of Homes Committee wrap meeting
DESCRIPTION:Congratulations and thank you to everyone on the Parade of Homes Committee. We had another successful event and received a lot of positive feedback. We will meet one last time this year to discuss the details of the event to make it even better for next year. Please mark you calendars to attend the wrap meeting this Tuesday at 11:00 AM at the Home Builders office. Bring any notes\, comments or observations that you think will help us improve an already great event. RSVP
X-ALT-DESC;FMTTYPE=text/html:Congratulations and thank you to everyone on the Parade of Homes Committee. We had another successful event and received a lot of positive feedback. We will meet one last time this year to discuss the details of the event to make it even better for next year. Please mark you calendars to attend the wrap meeting this Tuesday at 11:00 AM at the Home Builders office. Bring any notes\, comments or observations that you think will help us improve an already great event. RSVP<br> <br> <br> <br>
LOCATION:221 Clark Street\, NW Knoxville\, TN
UID:e.9402.565
SEQUENCE:3
DTSTAMP:20260420T110258Z
URL:http://hbaknoxvilletn.memberzone.com/events/details/parade-of-homes-committee-wrap-meeting-11-12-2013-565
END:VEVENT

END:VCALENDAR
