BEGIN:VCALENDAR
VERSION:2.0
PRODID:-//ChamberMaster//Event Calendar 2.0//EN
METHOD:PUBLISH
X-PUBLISHED-TTL:P3D
REFRESH-INTERVAL:P3D
CALSCALE:GREGORIAN
BEGIN:VEVENT
DTSTART;VALUE=DATE:20130910
DTEND;VALUE=DATE:20130911
TRANSP:TRANSPARENT
X-MICROSOFT-CDO-ALLDAYEVENT:TRUE
SUMMARY:Parade of Homes Committee meeting
DESCRIPTION:The Parade of Homes Committee will meet at 4 PM on Tuesday\, SEP 10 at the HBA office. We have 39 houses entered in the Parade! "Home inspections"  to determine if the houses will be complete in time for the Parade should be completed - if there are concerns about a house being ready please contact the HBA office immediately. At this meeting we will discuss the upcoming Parade Builder reception at Calhoun's on Bearden Hill\, scheduled for Tuesday\, SEP 24. Thank you for volunteering to serve on this committee!
X-ALT-DESC;FMTTYPE=text/html:The Parade of Homes Committee will meet at 4 PM on Tuesday\, SEP 10 at the HBA office. We have 39 houses entered in the Parade! &quot\;Home inspections&quot\; &nbsp\;to determine if the houses will be complete in time for the Parade should be completed - if there are concerns about a house being ready please contact the HBA office immediately. At this meeting we will discuss the upcoming Parade Builder reception at Calhoun&#39\;s on Bearden Hill\, scheduled for Tuesday\, SEP 24. Thank you for volunteering to serve on this committee!<br> <br> <br> <br>
LOCATION:221 Clark Street\, NW Knoxville\, TN
UID:e.9402.546
SEQUENCE:3
DTSTAMP:20260420T142932Z
URL:http://hbaknoxvilletn.memberzone.com/events/details/parade-of-homes-committee-meeting-09-10-2013-546
END:VEVENT

END:VCALENDAR
