BEGIN:VCALENDAR
VERSION:2.0
PRODID:-//ChamberMaster//Event Calendar 2.0//EN
METHOD:PUBLISH
X-PUBLISHED-TTL:P3D
REFRESH-INTERVAL:P3D
CALSCALE:GREGORIAN
BEGIN:VEVENT
DTSTART;VALUE=DATE:20130710
DTEND;VALUE=DATE:20130711
TRANSP:TRANSPARENT
X-MICROSOFT-CDO-ALLDAYEVENT:TRUE
SUMMARY:Parade of Homes Committee meeting
DESCRIPTION:The 2013 Parade of Homes Committee will meet at 4 PM on Wednesday\, July 10 at the HBA office. ORNL Federal Credit Union has once again agreed to be our official Platinum Sponsor for the event. We hope that you can attend this meeting.\n \n The FINAL entry date for Parade Builders is Friday\, August 2. Please discuss the Parade with your contacts and let me know if you need anything. Thanks!
X-ALT-DESC;FMTTYPE=text/html:The 2013 Parade of Homes Committee will meet at 4 PM on Wednesday\, July 10 at the HBA office. ORNL Federal Credit Union has once again agreed to be our official Platinum Sponsor for the event. We hope that you can attend this meeting.<br> <br> The FINAL entry date for Parade Builders is Friday\, August 2. Please discuss the Parade with your contacts and let me know if you need anything. Thanks!<br> <br> <br>
LOCATION:221 Clark Street\, NW Knoxville\, TN
UID:e.9402.529
SEQUENCE:3
DTSTAMP:20260420T192834Z
URL:http://hbaknoxvilletn.memberzone.com/events/details/parade-of-homes-committee-meeting-07-10-2013-529
END:VEVENT

END:VCALENDAR
