BEGIN:VCALENDAR
VERSION:2.0
PRODID:-//ChamberMaster//Event Calendar 2.0//EN
METHOD:PUBLISH
X-PUBLISHED-TTL:P3D
REFRESH-INTERVAL:P3D
CALSCALE:GREGORIAN
BEGIN:VEVENT
DTSTART;VALUE=DATE:20130529
DTEND;VALUE=DATE:20130530
TRANSP:TRANSPARENT
X-MICROSOFT-CDO-ALLDAYEVENT:TRUE
SUMMARY:Parade of Homes Committee meeting
DESCRIPTION:The 2013 Parade of Homes Committee will meet at 4 PM on Wednesday\, May 29 at the HBA office. Show dates are set for the first three weekends in October and ORNL Federal Credit Union has once again agreed to be our official Platinum Sponsor for the event. We hope that you can attend this meeting.\n \n The Regular entry date for Parade Builders is Monday\, June 3. Please discuss the Parade with your contacts and let me know if you need anything. Thanks!
X-ALT-DESC;FMTTYPE=text/html:The 2013 Parade of Homes Committee will meet at 4 PM on Wednesday\, May 29 at the HBA office. Show dates are set for the first three weekends in October and ORNL Federal Credit Union has once again agreed to be our official Platinum Sponsor for the event. We hope that you can attend this meeting.<br> <br> The Regular entry date for Parade Builders is Monday\, June 3. Please discuss the Parade with your contacts and let me know if you need anything. Thanks!<br> <br> <br>
LOCATION:221 Clark Street\, NW Knoxville\, TN
UID:e.9402.519
SEQUENCE:3
DTSTAMP:20260421T003827Z
URL:http://hbaknoxvilletn.memberzone.com/events/details/parade-of-homes-committee-meeting-05-29-2013-519
END:VEVENT

END:VCALENDAR
