BEGIN:VCALENDAR
VERSION:2.0
PRODID:-//ChamberMaster//Event Calendar 2.0//EN
METHOD:PUBLISH
X-PUBLISHED-TTL:P3D
REFRESH-INTERVAL:P3D
CALSCALE:GREGORIAN
BEGIN:VEVENT
DTSTART;VALUE=DATE:20130424
DTEND;VALUE=DATE:20130425
TRANSP:TRANSPARENT
X-MICROSOFT-CDO-ALLDAYEVENT:TRUE
SUMMARY:Parade of Homes Committee meeting
DESCRIPTION:The 2013 Parade of Homes Committee will meet at 4 PM on Wednesday\, April 24 at the HBA office. Show dates are set for the first three weekends in October: 4-6\, 11-13 & 18-20\; hours are 12 - 5 pm. ORNL Federal Credit Union has once again agreed to be our official Platinum Sponsor for the event. We hope that you can attend this important committee meeting.\n \n The Early Bird entry date for Parade Builders is Wednesday\, May 1. Please discuss the Parade with your contacts and let me know if you need anything. Thanks!\n \n \n                                                          entries          2012 Builder Company Name          Builder Name          Builder Telephone                        3          Ball Homes\, LLC          Lisa Ball          (865) 329-6919                                   Brandywine at Turkey Creek\, LLC          Bruce Matzel          (865) 675-0403                                   Brookwood Construction & Engineers\, LLC          David Haines          (865) 740-6674                                   Cornerstone Custom Homes\, LLC          Edwin Rodriguez          (865) 604-0744                                   Elegant Construction\, LP          Vio Rotar          (865) 705-5875                                   Ethics Construction Company\, LLC          Michael Dulin CAPS\, CGB\, CGP          (865) 755-3216                        Remodel          Fairfax Custom Homes          Tim Neal          (865) 579-4677                        W          Homes by MJC Construction\, Inc.          Michelle Bellinghausen          (865) 740-8995                                   Lake Forest Construction & Development\, LLC          Randall Heiden CAPS\, CGP          (865) 408-1605                                   McCamy Construction          Sam McCamy          (865) 247-7068                                   Noble Knights Construction Services\, Inc.          Alan Van Why          (865) 406-7223                        3          Radius Homes          Blane Chrisman          (865) 603-1509                        4          Saddlebrook Properties\, LLC          Bob Mohney          (865) 392-5630                        2          Schaad Residential Construction\, LLC          Patrick J. Schaad          (865) 637-2674                                   Sites to See\, Inc.          Rose Ann Shore          (865) 679-6004                        6          Smithbilt Homes\, LLC          Randy Smith          (865) 694-8582                                   The Weaver Homes Company\, Inc.          Jim Weaver          (865) 458-6297                                   Wilson Construction          Jason Wilson          (865) 389-2773                                   Worley Builders\, Inc.          Ron Worley\, Jr. CGB\, CGP          (865) 922-2600                        2          Zarb Homes          Ed Zarb          (865) 388-9420                                                                                  entries          2011 Builder Company Name          Builder Name          Builder Telephone                                   A & M Building & Contracting\, Inc.          Aaron Lehnert          865-380-4100                        2          Ball Homes          Lisa Ball          865-482-1644                        2          Charles R. Atkins\, Inc.          Charles Atkins          865-584-7082                                   Cornerstone Custom Homes          Edwin Rodriquez          865-604-0744                                   DuPree-Graf Construction          Julie DuPree          865-310-2471                                   Eagle Bend Construction\, LLC          Scott Davis          865-693-3356                                   Ethics Construction Company\, LLC          Mike Dulin          865-755-3216                                   Frontier Building & Development          Shawn Roderiques          865-388-1505                                   HMH Construction\, Inc.          Hunter Harrison          865-470-7396                                   Keener Homes\, Inc.          Kit Keener          865-458-1759                                   Luxe Homes and Design\, Inc.          Jenny Blalock          865-755-4680                                   M-3 Construction\, Inc.          Robert H. Murdock          865-388-1039                                   McCamy Construction          Sam McCamy          865-247-7068                                   Radius Homes          Blane Chrisman          865-603-1509                        2          Saddlebrook Properties\, LLC          Brian Mohney          865-392-5630                        2          Schaad Residential Construction\, LLC          Patrick J. Schaad          865-637-2674                                   Schaad Residential Construction\, LLC          Patrick J. Schaad          865-637-2674                        6          Smithbilt Homes          Randy Smith          865-694-8582                                   The Weaver Homes Company\, Inc.          Jim Weaver          865-458-6297                        2          Wilson Construction          Jason Wilson          865-389-2773                                   Woodpointe\, LLC          Bryon Haun          865-691-3033                                   Worley Builders\, Inc.          Ron W. Worley\, Jr.          865-922-2600                                   Zarb Homes\, LLC          Ed Zarb          865-388-9420
X-ALT-DESC;FMTTYPE=text/html:The 2013 Parade of Homes Committee will meet at 4 PM on Wednesday\, April 24 at the HBA office. Show dates are set for the first three weekends in October: 4-6\, 11-13 &amp\; 18-20\; hours are 12 - 5 pm. ORNL Federal Credit Union has once again agreed to be our official Platinum Sponsor for the event. We hope that you can attend this important committee meeting.<br> <br> The Early Bird entry date for Parade Builders is Wednesday\, May 1. Please discuss the Parade with your contacts and let me know if you need anything. Thanks!<br> <br> <br> <table border=0 cellpadding=0 cellspacing=0 style=width:677px\; width=678>    <colgroup>       <col>       <col>       <col>       <col>    </colgroup>    <tbody>       <tr height=20>          <td height=20 style=height:20px\;width:64px\;>entries</td>          <td style=width:295px\;>2012 Builder Company Name</td>          <td style=width:195px\;>Builder Name</td>          <td style=width:124px\;>Builder Telephone</td>       </tr>       <tr height=20>          <td align=right height=20 style=height:20px\;>3</td>          <td>Ball Homes\, LLC</td>          <td>Lisa Ball</td>          <td>(865) 329-6919</td>       </tr>       <tr height=20>          <td height=20 style=height:20px\;>&nbsp\;</td>          <td>Brandywine at Turkey Creek\, LLC</td>          <td>Bruce Matzel</td>          <td>(865) 675-0403</td>       </tr>       <tr height=20>          <td height=20 style=height:20px\;>&nbsp\;</td>          <td>Brookwood Construction &amp\; Engineers\, LLC</td>          <td>David Haines</td>          <td>(865) 740-6674</td>       </tr>       <tr height=20>          <td height=20 style=height:20px\;>&nbsp\;</td>          <td>Cornerstone Custom Homes\, LLC</td>          <td>Edwin Rodriguez</td>          <td>(865) 604-0744</td>       </tr>       <tr height=20>          <td height=20 style=height:20px\;>&nbsp\;</td>          <td>Elegant Construction\, LP</td>          <td>Vio Rotar</td>          <td>(865) 705-5875</td>       </tr>       <tr height=20>          <td height=20 style=height:20px\;>&nbsp\;</td>          <td>Ethics Construction Company\, LLC</td>          <td>Michael Dulin CAPS\, CGB\, CGP</td>          <td>(865) 755-3216</td>       </tr>       <tr height=20>          <td height=20 style=height:20px\;>Remodel</td>          <td>Fairfax Custom Homes</td>          <td>Tim Neal</td>          <td>(865) 579-4677</td>       </tr>       <tr height=20>          <td height=20 style=height:20px\;>W</td>          <td>Homes by MJC Construction\, Inc.</td>          <td>Michelle Bellinghausen</td>          <td>(865) 740-8995</td>       </tr>       <tr height=20>          <td height=20 style=height:20px\;>&nbsp\;</td>          <td>Lake Forest Construction &amp\; Development\, LLC</td>          <td>Randall Heiden CAPS\, CGP</td>          <td>(865) 408-1605</td>       </tr>       <tr height=20>          <td height=20 style=height:20px\;>&nbsp\;</td>          <td>McCamy Construction</td>          <td>Sam McCamy</td>          <td>(865) 247-7068</td>       </tr>       <tr height=20>          <td height=20 style=height:20px\;>&nbsp\;</td>          <td>Noble Knights Construction Services\, Inc.</td>          <td>Alan Van Why</td>          <td>(865) 406-7223</td>       </tr>       <tr height=20>          <td align=right height=20 style=height:20px\;>3</td>          <td>Radius Homes</td>          <td>Blane Chrisman</td>          <td>(865) 603-1509</td>       </tr>       <tr height=20>          <td align=right height=20 style=height:20px\;>4</td>          <td>Saddlebrook Properties\, LLC</td>          <td>Bob Mohney</td>          <td>(865) 392-5630</td>       </tr>       <tr height=20>          <td align=right height=20 style=height:20px\;>2</td>          <td>Schaad Residential Construction\, LLC</td>          <td>Patrick J. Schaad</td>          <td>(865) 637-2674</td>       </tr>       <tr height=20>          <td height=20 style=height:20px\;>&nbsp\;</td>          <td>Sites to See\, Inc.</td>          <td>Rose Ann Shore</td>          <td>(865) 679-6004</td>       </tr>       <tr height=20>          <td align=right height=20 style=height:20px\;>6</td>          <td>Smithbilt Homes\, LLC</td>          <td>Randy Smith</td>          <td>(865) 694-8582</td>       </tr>       <tr height=20>          <td height=20 style=height:20px\;>&nbsp\;</td>          <td>The Weaver Homes Company\, Inc.</td>          <td>Jim Weaver</td>          <td>(865) 458-6297</td>       </tr>       <tr height=20>          <td height=20 style=height:20px\;>&nbsp\;</td>          <td>Wilson Construction</td>          <td>Jason Wilson</td>          <td>(865) 389-2773</td>       </tr>       <tr height=20>          <td height=20 style=height:20px\;>&nbsp\;</td>          <td>Worley Builders\, Inc.</td>          <td>Ron Worley\, Jr. CGB\, CGP</td>          <td>(865) 922-2600</td>       </tr>       <tr height=20>          <td align=right height=20 style=height:20px\;>2</td>          <td>Zarb Homes</td>          <td>Ed Zarb</td>          <td>(865) 388-9420</td>       </tr>       <tr height=20>          <td height=20 style=height:20px\;>&nbsp\;</td>          <td>&nbsp\;</td>          <td>&nbsp\;</td>          <td>&nbsp\;</td>       </tr>       <tr height=20>          <td height=20 style=height:20px\;>entries</td>          <td>2011 Builder Company Name</td>          <td>Builder Name</td>          <td>Builder Telephone</td>       </tr>       <tr height=20>          <td height=20 style=height:20px\;>&nbsp\;</td>          <td>A &amp\; M Building &amp\; Contracting\, Inc.</td>          <td>Aaron Lehnert</td>          <td>865-380-4100</td>       </tr>       <tr height=20>          <td align=right height=20 style=height:20px\;>2</td>          <td>Ball Homes</td>          <td>Lisa Ball</td>          <td>865-482-1644</td>       </tr>       <tr height=20>          <td align=right height=20 style=height:20px\;>2</td>          <td>Charles R. Atkins\, Inc.</td>          <td>Charles Atkins</td>          <td>865-584-7082</td>       </tr>       <tr height=20>          <td height=20 style=height:20px\;>&nbsp\;</td>          <td>Cornerstone Custom Homes</td>          <td>Edwin Rodriquez</td>          <td>865-604-0744</td>       </tr>       <tr height=20>          <td height=20 style=height:20px\;>&nbsp\;</td>          <td>DuPree-Graf Construction</td>          <td>Julie DuPree</td>          <td>865-310-2471</td>       </tr>       <tr height=20>          <td height=20 style=height:20px\;>&nbsp\;</td>          <td>Eagle Bend Construction\, LLC</td>          <td>Scott Davis</td>          <td>865-693-3356</td>       </tr>       <tr height=20>          <td height=20 style=height:20px\;>&nbsp\;</td>          <td>Ethics Construction Company\, LLC</td>          <td>Mike Dulin</td>          <td>865-755-3216</td>       </tr>       <tr height=20>          <td height=20 style=height:20px\;>&nbsp\;</td>          <td>Frontier Building &amp\; Development</td>          <td>Shawn Roderiques</td>          <td>865-388-1505</td>       </tr>       <tr height=20>          <td height=20 style=height:20px\;>&nbsp\;</td>          <td>HMH Construction\, Inc.</td>          <td>Hunter Harrison</td>          <td>865-470-7396</td>       </tr>       <tr height=20>          <td height=20 style=height:20px\;>&nbsp\;</td>          <td>Keener Homes\, Inc.</td>          <td>Kit Keener</td>          <td>865-458-1759</td>       </tr>       <tr height=20>          <td height=20 style=height:20px\;>&nbsp\;</td>          <td>Luxe Homes and Design\, Inc.</td>          <td>Jenny Blalock</td>          <td>865-755-4680</td>       </tr>       <tr height=20>          <td height=20 style=height:20px\;>&nbsp\;</td>          <td>M-3 Construction\, Inc.</td>          <td>Robert H. Murdock</td>          <td>865-388-1039</td>       </tr>       <tr height=20>          <td height=20 style=height:20px\;>&nbsp\;</td>          <td>McCamy Construction</td>          <td>Sam McCamy</td>          <td>865-247-7068</td>       </tr>       <tr height=20>          <td height=20 style=height:20px\;>&nbsp\;</td>          <td>Radius Homes</td>          <td>Blane Chrisman</td>          <td>865-603-1509</td>       </tr>       <tr height=20>          <td align=right height=20 style=height:20px\;>2</td>          <td>Saddlebrook Properties\, LLC</td>          <td>Brian Mohney</td>          <td>865-392-5630</td>       </tr>       <tr height=20>          <td align=right height=20 style=height:20px\;>2</td>          <td>Schaad Residential Construction\, LLC</td>          <td>Patrick J. Schaad</td>          <td>865-637-2674</td>       </tr>       <tr height=20>          <td height=20 style=height:20px\;>&nbsp\;</td>          <td>Schaad Residential Construction\, LLC</td>          <td>Patrick J. Schaad</td>          <td>865-637-2674</td>       </tr>       <tr height=20>          <td align=right height=20 style=height:20px\;>6</td>          <td>Smithbilt Homes</td>          <td>Randy Smith</td>          <td>865-694-8582</td>       </tr>       <tr height=20>          <td height=20 style=height:20px\;>&nbsp\;</td>          <td>The Weaver Homes Company\, Inc.</td>          <td>Jim Weaver</td>          <td>865-458-6297</td>       </tr>       <tr height=20>          <td align=right height=20 style=height:20px\;>2</td>          <td>Wilson Construction</td>          <td>Jason Wilson</td>          <td>865-389-2773</td>       </tr>       <tr height=20>          <td height=20 style=height:20px\;>&nbsp\;</td>          <td>Woodpointe\, LLC</td>          <td>Bryon Haun</td>          <td>865-691-3033</td>       </tr>       <tr height=20>          <td height=20 style=height:20px\;>&nbsp\;</td>          <td>Worley Builders\, Inc.</td>          <td>Ron W. Worley\, Jr.</td>          <td>865-922-2600</td>       </tr>       <tr height=20>          <td height=20 style=height:20px\;>&nbsp\;</td>          <td>Zarb Homes\, LLC</td>          <td>Ed Zarb</td>          <td>865-388-9420</td>       </tr>    </tbody> </table> <br> <br> <br>
LOCATION:221 Clark Street\, NW Knoxville\, TN
UID:e.9402.509
SEQUENCE:3
DTSTAMP:20260421T004808Z
URL:http://hbaknoxvilletn.memberzone.com/events/details/parade-of-homes-committee-meeting-04-24-2013-509
END:VEVENT

END:VCALENDAR
