BEGIN:VCALENDAR
VERSION:2.0
PRODID:-//ChamberMaster//Event Calendar 2.0//EN
METHOD:PUBLISH
X-PUBLISHED-TTL:P3D
REFRESH-INTERVAL:P3D
CALSCALE:GREGORIAN
BEGIN:VEVENT
DTSTART;VALUE=DATE:20130328
DTEND;VALUE=DATE:20130329
TRANSP:TRANSPARENT
X-MICROSOFT-CDO-ALLDAYEVENT:TRUE
SUMMARY:Parade of Homes Committee meeting
DESCRIPTION:The 2013 Parade of Homes Committee will meet for the first time at 11:00 AM on Thursday\, March 28 at the HBA office. Show dates are set for the first three weekends in October: 4-6\, 11-13 & 18-20\; hours are 12 - 5 pm. We are pleased to announce that ORNL Federal Credit Union has once again agreed to be our official Platinum Sponsor for the event. We hope that you can attend this important committee meeting. RSVP.
X-ALT-DESC;FMTTYPE=text/html:The 2013 Parade of Homes Committee will meet for the first time&nbsp\;at 11:00 AM on Thursday\, March 28 at the HBA office. Show dates are set for the first three weekends in October: 4-6\, 11-13 &amp\; 18-20\; hours are 12 - 5 pm. We are pleased to announce that ORNL Federal Credit Union has once again agreed to be our official Platinum Sponsor for the event. We hope that you can attend this important committee meeting. RSVP.<br> <br>
LOCATION:221 Clark Street\, NW Knoxville\, TN
UID:e.9402.501
SEQUENCE:3
DTSTAMP:20260421T023234Z
URL:http://hbaknoxvilletn.memberzone.com/events/details/parade-of-homes-committee-meeting-03-28-2013-501
END:VEVENT

END:VCALENDAR
