BEGIN:VCALENDAR
VERSION:2.0
PRODID:-//ChamberMaster//Event Calendar 2.0//EN
METHOD:PUBLISH
X-PUBLISHED-TTL:P3D
REFRESH-INTERVAL:P3D
CALSCALE:GREGORIAN
BEGIN:VEVENT
DTSTART;VALUE=DATE:20100915
DTEND;VALUE=DATE:20100916
TRANSP:TRANSPARENT
X-MICROSOFT-CDO-ALLDAYEVENT:TRUE
SUMMARY:Parade of Homes Committee
DESCRIPTION:Please plan to attend the HBAGK's Parade of Homes Committee meeting on Wednesday\, September 15 at 12:00 pm at the HBAGK office. RSVP to let us know if you will be attending and having lunch so we can order the proper amount of food. Lunch is available for $6 and we accept cash\, checks and credit cards. Thank you for volunteering to serve on this important committee. If you are no longer interested in serving on the 2010 Parade of Homes Committee\, please respond to this email that you cannot participate this year.
X-ALT-DESC;FMTTYPE=text/html:<div id=vcontent> <p>Please plan to attend the HBAGK&rsquo\;s Parade of Homes Committee&nbsp\;meeting on Wednesday\,&nbsp\;September 15 at 12:00 pm&nbsp\;at the HBAGK office.&nbsp\;RSVP to let us know if you will be attending and having lunch so we can order the proper amount of food. Lunch is available for $6 and we accept cash\, checks and credit cards.</p> <p>Thank you for volunteering to serve on this important committee. If you are no longer&nbsp\;interested in serving on the 2010 Parade of Homes Committee\, please respond to this email that you cannot participate this year.</p> </div>
LOCATION:221 Clark Street\, NW Knoxville\, TN
UID:e.9402.238
SEQUENCE:3
DTSTAMP:20260424T144358Z
URL:http://hbaknoxvilletn.memberzone.com/events/details/parade-of-homes-committee-09-15-2010-238
END:VEVENT

END:VCALENDAR
