BEGIN:VCALENDAR
VERSION:2.0
PRODID:-//ChamberMaster//Event Calendar 2.0//EN
METHOD:PUBLISH
X-PUBLISHED-TTL:P3D
REFRESH-INTERVAL:P3D
CALSCALE:GREGORIAN
BEGIN:VEVENT
DTSTART;VALUE=DATE:20120723
DTEND;VALUE=DATE:20120724
TRANSP:TRANSPARENT
X-MICROSOFT-CDO-ALLDAYEVENT:TRUE
SUMMARY:Parade of Homes Committee
DESCRIPTION:It's time for our fourth Parade of Homes committee meeting of the year. Please join us at the Home Builders office at 1:00 PM on Monday\, July 23. Lunch WILL NOT be ordered. Discussion items include:\n     Goal of 35+ homes entered in Parade (FINAL deadline is Wednesday\, August 1st)    Media promotion\, social media  2012 Show Dates are September 28-30 (UT @ GA)\, October 5-7 (BYE) and October 12-14 (UT @ MSU)
X-ALT-DESC;FMTTYPE=text/html:It&#39\;s time for our fourth Parade of Homes committee meeting of the year. Please join us at the Home Builders office at 1:00 PM on Monday\, July 23. Lunch WILL NOT be ordered. Discussion items include:<br> <ul>    <li>Goal of 35+ homes entered in Parade (FINAL deadline is Wednesday\, August 1st)</li>    <li>Media&nbsp\;promotion\, social media</li> </ul> 2012 Show Dates are September 28-30 (UT @ GA)\, October 5-7 (BYE) and October 12-14 (UT @ MSU)
LOCATION:221 Clark Street\, NW Knoxville\, TN
UID:e.9402.436
SEQUENCE:3
DTSTAMP:20260421T223555Z
URL:http://hbaknoxvilletn.memberzone.com/events/details/parade-of-homes-committee-07-23-2012-436
END:VEVENT

END:VCALENDAR
