BEGIN:VCALENDAR
VERSION:2.0
PRODID:-//ChamberMaster//Event Calendar 2.0//EN
METHOD:PUBLISH
X-PUBLISHED-TTL:P3D
REFRESH-INTERVAL:P3D
CALSCALE:GREGORIAN
BEGIN:VEVENT
DTSTART;VALUE=DATE:20140716
DTEND;VALUE=DATE:20140717
TRANSP:TRANSPARENT
X-MICROSOFT-CDO-ALLDAYEVENT:TRUE
SUMMARY:Parade of Homes Committee
DESCRIPTION:The 2014 Parade of Homes Committee will meet Wednesday morning at 9:30 AM\, July 16 at the HBAGK office. Please respond so we can prepare our materials\, even if you cannot attend.\nParade dates are set for the first three weekends in October: 3-5\, 10-12 & 17-19\; hours are 12 - 5 pm. ORNL Federal Credit Union has generously agreed to be our official Platinum Sponsor for the event! We hope that you can attend our meeting. The FINAL ENTRY DEADLINE is Friday\, August 1st. Please discuss the Parade with your contacts & builders and let me know if you need anything. \nAdvertising in the official Parade of Homes Magazine is still available but cutoff dates are approaching fast! Ad rates are attached including our mobile phone app. Here is the full list of Builder members who are participating so far:\n             Entries   Company Name   First Name   Last Name       9   Ball Homes\, LLC   Lisa   Ball       1   Biles Construction   Bayless   Biles       1   Cook Bros.   Construction\, LLC   John   Cook       1   Cornerstone Custom   Homes   Edwin   Rodriguez       1   Ethics Construction   Company\, LLC   Michael   Dulin CAPS\, CGB\, CGP       1   Fairfax Custom Homes   & Remodeling   Timothy   Neal CGB\, CAPS\, CGP       1   Jalyn Homes   Steve   Wolfgram       1   Landmark Real Estate   Company   Brian   Shugart       1   McCamy Construction   Hunter   Purnell\, CAPS       1   Mike Stevens Homes\,   Inc.   Mike   Stevens       1   Myers Brothers   Holdings   Noah   Myers       1   Radius Homes   Blane   Chrisman       3   Saddlebrook   Properties\, LLC   Bob   Mohney       8   Smithbilt\, LLC   Robert   Fehr       1   The Weaver Homes   Company\, Inc.   Jim   Weaver       1   Worley Builders\, Inc.   Ron   Worley\, Jr. CGB\, CGP       33
X-ALT-DESC;FMTTYPE=text/html:<div><br></div>The 2014 Parade of Homes Committee will meet Wednesday morning at 9:30 AM\, July 16 at the HBAGK office. Please respond so we can prepare our materials\, even if you cannot attend.<div><br></div><div>Parade dates are set for the first three weekends in October: 3-5\, 10-12 &amp\; 17-19\; hours are 12 - 5 pm. ORNL Federal Credit Union has generously agreed to be our official Platinum Sponsor for the event! We hope that you can attend our meeting. The FINAL ENTRY DEADLINE is Friday\, August 1st.&nbsp\;Please discuss the Parade with your contacts &amp\; builders and let me know if you need anything.&nbsp\;</div><div><br></div><div>Advertising in the official Parade of Homes Magazine is still available but cutoff dates are approaching fast! Ad rates are attached including our mobile phone app. Here is the full list of Builder members who are participating so far:</div><div><br></div><div><table border=0 cellpadding=0 cellspacing=0 width=520 style=width: 390pt\;>  <colgroup><col width=64 style=width:48pt>  <col width=230 style=mso-width-source:userset\;mso-width-alt:8411\;width:173pt>  <col width=75 style=mso-width-source:userset\;mso-width-alt:2742\;width:56pt>  <col width=151 style=mso-width-source:userset\;mso-width-alt:5522\;width:113pt>  </colgroup><tbody><tr height=17 style=height:12.75pt>   <td height=17 class=xl65 width=64 style=height:12.75pt\;width:48pt>Entries</td>   <td class=xl65 width=230 style=border-left:none\;width:173pt>Company Name</td>   <td class=xl65 width=75 style=border-left:none\;width:56pt>First Name</td>   <td class=xl65 width=151 style=border-left:none\;width:113pt>Last Name</td>  </tr>  <tr height=17 style=height:12.75pt>   <td height=17 class=xl66 align=right style=height:12.75pt\;border-top:none>9</td>   <td class=xl66 style=border-top:none\;border-left:none>Ball Homes\, LLC</td>   <td class=xl66 style=border-top:none\;border-left:none>Lisa</td>   <td class=xl66 style=border-top:none\;border-left:none>Ball</td>  </tr>  <tr height=17 style=height:12.75pt>   <td height=17 class=xl66 align=right style=height:12.75pt\;border-top:none>1</td>   <td class=xl66 style=border-top:none\;border-left:none>Biles Construction</td>   <td class=xl66 style=border-top:none\;border-left:none>Bayless</td>   <td class=xl66 style=border-top:none\;border-left:none>Biles</td>  </tr>  <tr height=17 style=height:12.75pt>   <td height=17 class=xl66 align=right style=height:12.75pt\;border-top:none>1</td>   <td class=xl66 style=border-top:none\;border-left:none>Cook Bros.   Construction\, LLC</td>   <td class=xl66 style=border-top:none\;border-left:none>John</td>   <td class=xl66 style=border-top:none\;border-left:none>Cook</td>  </tr>  <tr height=17 style=height:12.75pt>   <td height=17 class=xl66 align=right style=height:12.75pt\;border-top:none>1</td>   <td class=xl66 style=border-top:none\;border-left:none>Cornerstone Custom   Homes</td>   <td class=xl66 style=border-top:none\;border-left:none>Edwin</td>   <td class=xl66 style=border-top:none\;border-left:none>Rodriguez</td>  </tr>  <tr height=17 style=height:12.75pt>   <td height=17 class=xl66 align=right style=height:12.75pt\;border-top:none>1</td>   <td class=xl66 style=border-top:none\;border-left:none>Ethics Construction   Company\, LLC</td>   <td class=xl66 style=border-top:none\;border-left:none>Michael</td>   <td class=xl66 style=border-top:none\;border-left:none>Dulin CAPS\, CGB\, CGP</td>  </tr>  <tr height=17 style=height:12.75pt>   <td height=17 class=xl66 align=right style=height:12.75pt\;border-top:none>1</td>   <td class=xl66 style=border-top:none\;border-left:none>Fairfax Custom Homes   &amp\; Remodeling</td>   <td class=xl66 style=border-top:none\;border-left:none>Timothy</td>   <td class=xl66 style=border-top:none\;border-left:none>Neal CGB\, CAPS\, CGP</td>  </tr>  <tr height=17 style=height:12.75pt>   <td height=17 class=xl66 align=right style=height:12.75pt\;border-top:none>1</td>   <td class=xl66 style=border-top:none\;border-left:none>Jalyn Homes</td>   <td class=xl66 style=border-top:none\;border-left:none>Steve</td>   <td class=xl66 style=border-top:none\;border-left:none>Wolfgram</td>  </tr>  <tr height=17 style=height:12.75pt>   <td height=17 class=xl66 align=right style=height:12.75pt\;border-top:none>1</td>   <td class=xl66 style=border-top:none\;border-left:none>Landmark Real Estate   Company</td>   <td class=xl66 style=border-top:none\;border-left:none>Brian</td>   <td class=xl66 style=border-top:none\;border-left:none>Shugart</td>  </tr>  <tr height=17 style=height:12.75pt>   <td height=17 class=xl66 align=right style=height:12.75pt\;border-top:none>1</td>   <td class=xl66 style=border-top:none\;border-left:none>McCamy Construction</td>   <td class=xl66 style=border-top:none\;border-left:none>Hunter</td>   <td class=xl66 style=border-top:none\;border-left:none>Purnell\, CAPS</td>  </tr>  <tr height=17 style=height:12.75pt>   <td height=17 class=xl66 align=right style=height:12.75pt\;border-top:none>1</td>   <td class=xl66 style=border-top:none\;border-left:none>Mike Stevens Homes\,   Inc.</td>   <td class=xl66 style=border-top:none\;border-left:none>Mike</td>   <td class=xl66 style=border-top:none\;border-left:none>Stevens</td>  </tr>  <tr height=17 style=height:12.75pt>   <td height=17 class=xl66 align=right style=height:12.75pt\;border-top:none>1</td>   <td class=xl66 style=border-top:none\;border-left:none>Myers Brothers   Holdings</td>   <td class=xl66 style=border-top:none\;border-left:none>Noah</td>   <td class=xl66 style=border-top:none\;border-left:none>Myers</td>  </tr>  <tr height=17 style=height:12.75pt>   <td height=17 class=xl66 align=right style=height:12.75pt\;border-top:none>1</td>   <td class=xl66 style=border-top:none\;border-left:none>Radius Homes</td>   <td class=xl66 style=border-top:none\;border-left:none>Blane</td>   <td class=xl66 style=border-top:none\;border-left:none>Chrisman</td>  </tr>  <tr height=17 style=height:12.75pt>   <td height=17 class=xl66 align=right style=height:12.75pt\;border-top:none>3</td>   <td class=xl66 style=border-top:none\;border-left:none>Saddlebrook   Properties\, LLC</td>   <td class=xl66 style=border-top:none\;border-left:none>Bob</td>   <td class=xl66 style=border-top:none\;border-left:none>Mohney</td>  </tr>  <tr height=17 style=height:12.75pt>   <td height=17 class=xl66 align=right style=height:12.75pt\;border-top:none>8</td>   <td class=xl66 style=border-top:none\;border-left:none>Smithbilt\, LLC</td>   <td class=xl66 style=border-top:none\;border-left:none>Robert</td>   <td class=xl66 style=border-top:none\;border-left:none>Fehr</td>  </tr>  <tr height=17 style=height:12.75pt>   <td height=17 class=xl66 align=right style=height:12.75pt\;border-top:none>1</td>   <td class=xl66 style=border-top:none\;border-left:none>The Weaver Homes   Company\, Inc.</td>   <td class=xl66 style=border-top:none\;border-left:none>Jim</td>   <td class=xl66 style=border-top:none\;border-left:none>Weaver</td>  </tr>  <tr height=17 style=height:12.75pt>   <td height=17 class=xl66 align=right style=height:12.75pt\;border-top:none>1</td>   <td class=xl66 style=border-top:none\;border-left:none>Worley Builders\, Inc.</td>   <td class=xl66 style=border-top:none\;border-left:none>Ron</td>   <td class=xl66 style=border-top:none\;border-left:none>Worley\, Jr. CGB\, CGP</td>  </tr>  <tr height=17 style=height:12.75pt>   <td height=17 class=xl66 align=right style=height:12.75pt\;border-top:none>33</td>   <td class=xl66 style=border-top:none\;border-left:none>&nbsp\;</td>   <td class=xl66 style=border-top:none\;border-left:none>&nbsp\;</td>   <td class=xl66 style=border-top:none\;border-left:none>&nbsp\;</td>  </tr></tbody></table></div><div></div>
LOCATION:221 Clark Street\, NW Knoxville\, TN
UID:e.9402.614
SEQUENCE:3
DTSTAMP:20260419T160402Z
URL:http://hbaknoxvilletn.memberzone.com/events/details/parade-of-homes-committee-07-16-2014-614
END:VEVENT

END:VCALENDAR
