BEGIN:VCALENDAR
VERSION:2.0
PRODID:-//ChamberMaster//Event Calendar 2.0//EN
METHOD:PUBLISH
X-PUBLISHED-TTL:P3D
REFRESH-INTERVAL:P3D
CALSCALE:GREGORIAN
BEGIN:VEVENT
DTSTART;VALUE=DATE:20100427
DTEND;VALUE=DATE:20100428
TRANSP:TRANSPARENT
X-MICROSOFT-CDO-ALLDAYEVENT:TRUE
SUMMARY:Parade of Homes Committee
DESCRIPTION:Please plan to attend the HBAGK's Parade of Homes Committee CALL DAY Tuesday\, April 27 at 2 PM at the HBAGK office. Please RSVP if you will be attending. If you are not interested in serving on the 2010 Parade of Homes Committee\, please respond to this email that you cannot participate this year. Thank you and I look forward to seeing all of you on April 27th. Kathryn Lewis
X-ALT-DESC;FMTTYPE=text/html:<div id=vcontent> <p>Please plan to attend the HBAGK&rsquo\;s Parade of Homes Committee CALL DAY Tuesday\, April 27 at&nbsp\;2 PM&nbsp\;at the HBAGK office.&nbsp\;Please RSVP if you will be attending.</p> <p>If you are not interested in serving on the 2010 Parade of Homes Committee\, please respond to this email that you cannot participate this year.</p> <p>Thank you and I look forward to seeing all of you on April 27th.</p> <p>Kathryn Lewis</p> </div>
LOCATION:221 Clark Street\, NW Knoxville\, TN
UID:e.9402.213
SEQUENCE:3
DTSTAMP:20260424T105344Z
URL:http://hbaknoxvilletn.memberzone.com/events/details/parade-of-homes-committee-04-27-2010-213
END:VEVENT

END:VCALENDAR
