BEGIN:VCALENDAR
VERSION:2.0
PRODID:-//ChamberMaster//Event Calendar 2.0//EN
METHOD:PUBLISH
X-PUBLISHED-TTL:P3D
REFRESH-INTERVAL:P3D
CALSCALE:GREGORIAN
BEGIN:VEVENT
DTSTART;VALUE=DATE:20120410
DTEND;VALUE=DATE:20120411
TRANSP:TRANSPARENT
X-MICROSOFT-CDO-ALLDAYEVENT:TRUE
SUMMARY:Parade of Homes Committee
DESCRIPTION:It's time for our second Parade of Homes committee meeting of the year. Please join us at Linda McEntire's office on Tuesday\, April 10 at 1:00 PM. Lunch will NOT be provided. Discussion items include:\n     Goal of 30+ homes entered in Parade (Earlybird deadline is Tuesday\, May 1st)    Builder phone calls- report on assigned phone calls to past participants    House judging and awards ceremony    Magazine and Promotion  2012 Show Dates are September 28-30 (UT @ GA)\, October 5-7 (BYE) and October 12-14 (UT @ MSU)
X-ALT-DESC;FMTTYPE=text/html:It&#39\;s time for our second Parade of Homes committee meeting of the year. Please join us at&nbsp\;Linda McEntire&#39\;s&nbsp\;office on Tuesday\, April 10 at 1:00 PM. Lunch will NOT be provided. Discussion items include:<br> <ul>    <li>Goal of 30+ homes entered in Parade (Earlybird deadline is Tuesday\, May 1st)</li>    <li>Builder phone calls- report on assigned phone calls to past participants</li>    <li>House judging and awards ceremony</li>    <li>Magazine and Promotion</li> </ul> 2012 Show Dates are September 28-30 (UT @ GA)\, October 5-7 (BYE) and October 12-14 (UT @ MSU)
LOCATION:11213 Outlet Drive Knoxville\, TN
UID:e.9402.398
SEQUENCE:3
DTSTAMP:20260422T055323Z
URL:http://hbaknoxvilletn.memberzone.com/events/details/parade-of-homes-committee-04-10-2012-398
END:VEVENT

END:VCALENDAR
