BEGIN:VCALENDAR
VERSION:2.0
PRODID:-//ChamberMaster//Event Calendar 2.0//EN
METHOD:PUBLISH
X-PUBLISHED-TTL:P3D
REFRESH-INTERVAL:P3D
CALSCALE:GREGORIAN
BEGIN:VEVENT
DTSTART;VALUE=DATE:20090325
DTEND;VALUE=DATE:20090326
TRANSP:TRANSPARENT
X-MICROSOFT-CDO-ALLDAYEVENT:TRUE
SUMMARY:Parade of Homes Committee
DESCRIPTION:Please plan to attend the first 2009 Multi-Site Parade of Homes committee meeting on Wednesday\, March 25\, 2009 at 12:00 noon at the HBAGK office as we begin planning for another successful Parade of Homes.   Lunch will be provided for $6.00 per person. RSVP 24 hours before the meeting to let us know if you will be attending and having lunch. Thank you for agreeing to serve on this committee. We look forward to seeing you at the meeting.
X-ALT-DESC;FMTTYPE=text/html:<p><span style=font-size: 11pt>Please plan to attend the first 2009 Multi-Site Parade of Homes&nbsp\;committee meeting on Wednesday\, March 25\, 2009 at 12:00 noon at the HBAGK office as we begin planning for another successful Parade of Homes. &nbsp\;</span></p> <div style=margin: 0in 0in 0pt><span style=font-size: 11pt>Lunch will be provided for $6.00 per person.&nbsp\;RSVP 24 hours before the meeting to let us know if you will be attending and having lunch. Thank you for agreeing to serve on this committee. We look forward to seeing you at the meeting. </span></div>
LOCATION:221 Clark Street\, NW Knoxville\, TN
UID:e.9402.164
SEQUENCE:3
DTSTAMP:20260425T103843Z
URL:http://hbaknoxvilletn.memberzone.com/events/details/parade-of-homes-committee-03-25-2009-164
END:VEVENT

END:VCALENDAR
