BEGIN:VCALENDAR
VERSION:2.0
PRODID:-//ChamberMaster//Event Calendar 2.0//EN
METHOD:PUBLISH
X-PUBLISHED-TTL:P3D
REFRESH-INTERVAL:P3D
CALSCALE:GREGORIAN
BEGIN:VEVENT
DTSTART;VALUE=DATE:20100324
DTEND;VALUE=DATE:20100325
TRANSP:TRANSPARENT
X-MICROSOFT-CDO-ALLDAYEVENT:TRUE
SUMMARY:Parade of Homes Committee
DESCRIPTION:Please plan to attend the HBAGK's Parade of Homes Committee meeting on Wednesday\, March 24 at noon at the HBAGK office. Lunch will be provided for $6.00.  Please RSVP if you will be attending and if you would like lunch.  If you are not interested in serving on the 2010 Parade of Homes Committee\, please respond to this email that you cannot participate this year. Thank you and I look forward to seeing all of you on March 24th. Kathryn Lewis
X-ALT-DESC;FMTTYPE=text/html:<div id=vcontent> <p>Please plan to attend the HBAGK's Parade of Homes Committee meeting on Wednesday\, March 24 at noon at the HBAGK office. Lunch will be provided for $6.00.&nbsp\; Please RSVP if you will be attending and if you would like lunch.&nbsp\;</p> <p>If you are not interested in serving on the 2010 Parade of Homes Committee\, please respond to this email that you cannot participate this year.</p> <p>Thank you and I look forward to seeing all of you on March 24th.</p> <p>Kathryn Lewis</p> </div>
LOCATION:221 Clark Street\, NW Knoxville\, TN
UID:e.9402.204
SEQUENCE:3
DTSTAMP:20260424T121050Z
URL:http://hbaknoxvilletn.memberzone.com/events/details/parade-of-homes-committee-03-24-2010-204
END:VEVENT

END:VCALENDAR
