BEGIN:VCALENDAR
VERSION:2.0
PRODID:-//ChamberMaster//Event Calendar 2.0//EN
METHOD:PUBLISH
X-PUBLISHED-TTL:P3D
REFRESH-INTERVAL:P3D
CALSCALE:GREGORIAN
BEGIN:VEVENT
DTSTART;VALUE=DATE:20120320
DTEND;VALUE=DATE:20120321
TRANSP:TRANSPARENT
X-MICROSOFT-CDO-ALLDAYEVENT:TRUE
SUMMARY:Parade of Homes Committee
DESCRIPTION:It's time for our first Parade of Homes committee meeting of the year. Please join us at Chairman Blane Chrisman's Radius Homes office on Tuesday\, March 20 at 3:00 PM. Discussion items include:\n     Goal of 30+ homes entered in Parade (Earlybird deadline is Tuesday\, May 1st)    Builder Blitz - call day for entries    House judging and awards ceremony    Magazine and Promotion  2012 Show Dates are September 28-30 (UT @ GA)\, October 5-7 (BYE) and October 12-14 (UT @ MSU)
X-ALT-DESC;FMTTYPE=text/html:It&#39\;s time for our first Parade of Homes committee meeting of the year. Please join us at Chairman Blane Chrisman&#39\;s Radius Homes office on Tuesday\, March 20 at 3:00 PM. Discussion items include:<br> <ul>    <li>Goal of 30+ homes entered in Parade (Earlybird deadline is Tuesday\, May 1st)</li>    <li>Builder Blitz - call day for entries</li>    <li>House judging and awards ceremony</li>    <li>Magazine and Promotion</li> </ul> 2012 Show Dates are September 28-30 (UT @ GA)\, October 5-7 (BYE) and October 12-14 (UT @ MSU)
LOCATION:10710 Murdock Dr. # 102 Knoxville\, TN
UID:e.9402.387
SEQUENCE:3
DTSTAMP:20260422T075738Z
URL:http://hbaknoxvilletn.memberzone.com/events/details/parade-of-homes-committee-03-20-2012-387
END:VEVENT

END:VCALENDAR
