BEGIN:VCALENDAR
VERSION:2.0
PRODID:-//ChamberMaster//Event Calendar 2.0//EN
METHOD:PUBLISH
X-PUBLISHED-TTL:P3D
REFRESH-INTERVAL:P3D
CALSCALE:GREGORIAN
BEGIN:VEVENT
DTSTART;VALUE=DATE:20121107
DTEND;VALUE=DATE:20121108
TRANSP:TRANSPARENT
X-MICROSOFT-CDO-ALLDAYEVENT:TRUE
SUMMARY:OSHA Safety Review Seminar
DESCRIPTION:Home Builders Association of Tennessee Self-Insured Trust\, Loss Prevention Program General Construction Safety Review (4 hours) All members of the HBAT-SIT who completed the OSHA 10-hour Safety Seminar prior to 2008 are required to attend a half-day safety review seminar per the Trustees. The sessions will last a little less than 4 hours and will include a brief review of the major components of the 10-hour course. One key person who has on-the-jobsite responsibilities must attend. Call 423-400-7232 or go to www.buildingwithsafety.com to register. Safety for HBAT-SIT since 1995          Location: Behind the United Way building off Western Avenue near downtown Knoxville. From downtown/Bradens Furniture on Western Avenue turn right on Arthur Street\, take second right on Tulip Street. HBAGK office is ahead on the right. Tan brick building with green awning and glass front doors.\n    \n    Other local dates:\n    \n    Nashville - NOV 1\n    Chattanooga - NOV 6\n    Maryville - NOV 27\n    Johnson City - NOV 28
X-ALT-DESC;FMTTYPE=text/html:<p><strong><font color=#ff0000>Home Builders Association of Tennessee Self-Insured Trust\, Loss Prevention Program</font></strong></p> <p><strong><font color=#ff0000>General Construction Safety Review (4 hours)</font></strong></p> <p>All members of the HBAT-SIT&nbsp\;who completed the OSHA 10-hour Safety Seminar prior to 2008&nbsp\;are required to&nbsp\;attend a half-day safety review seminar per the Trustees. The sessions will last a little less than 4 hours and will include a brief review of the major components of the 10-hour course. One key person who has <u>on-the-jobsite responsibilities </u>must attend.&nbsp\;<strong>Call&nbsp\;423-400-7232&nbsp\;or go to <a href=http://www.buildingwithsafety.com>www.buildingwithsafety.com</a>&nbsp\;to register</strong>.</p> <p><font color=#ff0000><strong>Safety for HBAT-SIT since 1995</strong></font></p> <div>    <div>&nbsp\;</div>    Location: Behind the United Way building off Western Avenue near downtown Knoxville.</div> <div>From downtown/Bradens Furniture on Western Avenue turn right on Arthur Street\, take second right on Tulip Street. HBAGK office is ahead on the right. Tan brick building with green awning and glass front doors.<br>    <br>    <span style=color: #ff0000><strong>Other local dates:</strong></span><br>    <br>    Nashville - NOV 1<br>    Chattanooga - NOV 6<br>    Maryville - NOV 27<br>    Johnson City - NOV 28</div>
LOCATION:221 Clark Street Knoxville\, TN
UID:e.9402.463
SEQUENCE:3
DTSTAMP:20260421T093017Z
URL:http://hbaknoxvilletn.memberzone.com/events/details/osha-safety-review-seminar-11-07-2012-463
END:VEVENT

END:VCALENDAR
