BEGIN:VCALENDAR
VERSION:2.0
PRODID:-//ChamberMaster//Event Calendar 2.0//EN
METHOD:PUBLISH
X-PUBLISHED-TTL:P3D
REFRESH-INTERVAL:P3D
CALSCALE:GREGORIAN
BEGIN:VEVENT
DTSTART;VALUE=DATE:20111110
DTEND;VALUE=DATE:20111111
TRANSP:TRANSPARENT
X-MICROSOFT-CDO-ALLDAYEVENT:TRUE
SUMMARY:OSHA Fall Protection Training
DESCRIPTION:Are you following the NEW OSHA Fall Protection Rules? Did you know that non-compliance could cost you up to $70\,000  or more for each offense. Very recent reports have indicated that OSHA inspectors just issued fines of $10\,000 - $40\,000 in Blount County.\n     \n    The National Association of Home Builders (NAHB)\, in conjunction with the NAHB Research Center\, has developed a 4 hour seminar for builders\, trade contractors\, supervisors and workers. This training program focuses on identifying fall hazards in residential construction\, as well as providing student attendees an understanding of the OSHA fall protection regulations and safe work practices to prevent fall-related injuries and deaths. Special emphasis is placed on how to develop a written fall protection plan\, how to protect stairways\, leading edges\, window/wall openings and floor holes\, how to use a Personal Fall Arrest System (PFAS)\, and how to safely construct rafters and install roof trusses and sheathing. Check in is at 8:30 am. The class starts promptly at 9:00 am and  will take approximately 4 hrs plus time for questions and answers. This class is recommended for EVERYONE who works above 6 feet including framers\, roofers\, plumbers\, electricians\, gutter installers\, etc. The fee is only $10 for both members and non-members\, snacks and drinks will be provided. Advance registration and pre-payment is required.
X-ALT-DESC;FMTTYPE=text/html:<p>Are you following the <a href=http://www.osha.gov/pls/oshaweb/owadisp.show_document?p_table=DIRECTIVES&amp\;p_id=4755>NEW OSHA Fall Protection Rules</a>? Did you know that non-compliance could cost you up to $70\,000&nbsp\; or more for each offense.&nbsp\;<strong>Very recent reports have indicated that OSHA inspectors just issued fines of $10\,000 - $40\,000 in Blount County.</strong><br>    &nbsp\;<br>    The National Association of Home Builders (NAHB)\, in conjunction with the NAHB Research Center\, has developed a 4 hour seminar for builders\, trade contractors\, supervisors and workers. This training program focuses on identifying fall hazards in residential construction\, as well as providing student attendees an understanding of the OSHA fall protection regulations and safe work practices to prevent fall-related injuries and deaths. Special emphasis is placed on how to develop a written fall protection plan\, how to protect stairways\, leading edges\, window/wall openings and floor holes\, how to use a Personal Fall Arrest System (PFAS)\, and how to safely construct rafters and install roof trusses and sheathing.</p> <p><span style=color: #ff0000><strong>Check in is at&nbsp\;8:30 am</strong></span>. <u>The class starts promptly at 9:00 am </u>and&nbsp\; will take approximately&nbsp\;4 hrs plus time for questions and answers. This class is recommended for EVERYONE who works above 6 feet&nbsp\;including framers\, roofers\, plumbers\, electricians\, gutter installers\, etc.</p> <p>The fee is&nbsp\;only $10 for both members and non-members\, snacks and drinks will be provided. <strong><u>Advance registration and pre-payment is required</u></strong>.&nbsp\;</p>
LOCATION:609 Weisgarber Road Knoxville\, TN
UID:e.9402.354
SEQUENCE:3
DTSTAMP:20260422T192554Z
URL:http://hbaknoxvilletn.memberzone.com/events/details/osha-fall-protection-training-11-10-2011-354
END:VEVENT

END:VCALENDAR
