BEGIN:VCALENDAR
VERSION:2.0
PRODID:-//ChamberMaster//Event Calendar 2.0//EN
METHOD:PUBLISH
X-PUBLISHED-TTL:P3D
REFRESH-INTERVAL:P3D
CALSCALE:GREGORIAN
BEGIN:VEVENT
DTSTART;VALUE=DATE:20110726
DTEND;VALUE=DATE:20110727
TRANSP:TRANSPARENT
X-MICROSOFT-CDO-ALLDAYEVENT:TRUE
SUMMARY:OSHA Fall Protection Training
DESCRIPTION:Are you following the NEW OSHA Fall Protection Rules? Did you know that non-compliance could cost you up to $70\,000  or more for each offense.     Safety experts have warned that after June 16\, 2011 OSHA  will start assessing fines of between $3\,000 and $7\,000 or more for first time offenders. This new rule applies to residential and light commercial as well as heavy construction. Remember - ignorance of these new rules is not a defense. We are not trying to scare you - we are trying to make you aware. Be prepared\, get trained and start complying.     The Home Builders Association of Greater Knoxville is offering training on Tuesday\, July 26 at the HBAGK office\, 221 Clark St\, Knoxville\, 37921.     Check in is at 7:45 am. The class starts promptly at 8:00 am and  will take approximately 3 hrs plus time for questions and answers. This class is recommended for EVERYONE who works above 6 feet including framers\, roofers\, plumbers\, electricians\, gutter installers\, etc.     The fee is $40 per member\, or $60 for non-members. Advance registration and pre-payment is required. This includes the Fall Protection Handbook in 2 languages.
X-ALT-DESC;FMTTYPE=text/html:<p>    Are you following the <a href=http://www.osha.gov/pls/oshaweb/owadisp.show_document?p_table=DIRECTIVES&amp\;p_id=4755>NEW OSHA Fall Protection Rules</a>? Did you know that non-compliance could cost you up to $70\,000&nbsp\; or more for each offense.</p> <p>    Safety experts have warned that after June 16\, 2011&nbsp\;OSHA&nbsp\; will start assessing fines of between $3\,000 and $7\,000 or more for first time offenders. This new rule applies to residential and light commercial as well as heavy construction. Remember - ignorance of these new rules is not a defense. We are not trying to scare you - we are trying to make you aware. Be prepared\, get trained and start complying.</p> <p>    The Home Builders Association of Greater Knoxville is offering training on Tuesday\, July 26 at the HBAGK office\, 221 Clark St\, Knoxville\, 37921.</p> <p>    Check in is at 7:45 am. The class starts promptly at 8:00 am and&nbsp\; will take approximately 3 hrs plus time for questions and answers. This class is recommended for EVERYONE who works above 6 feet&nbsp\;including framers\, roofers\, plumbers\, electricians\, gutter installers\, etc.</p> <p>    The fee is $40 per member\, or $60&nbsp\;for non-members. <u>Advance registration and pre-payment is required</u>. This includes the Fall Protection Handbook in 2 languages.</p> <p>    &nbsp\;</p>
LOCATION:221 Clark Street\, NW Knoxville\, TN
UID:e.9402.319
SEQUENCE:3
DTSTAMP:20260423T030854Z
URL:http://hbaknoxvilletn.memberzone.com/events/details/osha-fall-protection-training-07-26-2011-319
END:VEVENT

END:VCALENDAR
