BEGIN:VCALENDAR
VERSION:2.0
PRODID:-//ChamberMaster//Event Calendar 2.0//EN
METHOD:PUBLISH
X-PUBLISHED-TTL:P3D
REFRESH-INTERVAL:P3D
CALSCALE:GREGORIAN
BEGIN:VEVENT
DTSTART;VALUE=DATE:20141022
DTEND;VALUE=DATE:20141023
TRANSP:TRANSPARENT
X-MICROSOFT-CDO-ALLDAYEVENT:TRUE
SUMMARY:Open House - HBAGK Office Reveal
DESCRIPTION:Home Builders Association of Greater Knoxville cordially Invites you to our OPEN HOUSE Office Remodel Reveal  Come see our newly refurbished office and help us thank our Members and suppliers who donated to the project. If it has been a while since you visited our office you will be AMAZED by the transformation. It looks so much better than before and we appreciate everyone who made it possible. Snacks and drinks will be served\, you do not want to miss this fun opportunity to network with your peers and meet some new clients! Plenty of parking is available.  Please R.S.V.P. to bmathes@hbaknoxville.com or Fax (865) 546-0031
X-ALT-DESC;FMTTYPE=text/html:<p class=CompanyName><span style=color: rgb(0\, 0\, 0)\;><span style=font-size: 14px\;>Home Builders Association of Greater Knoxville c</span><span style=line-height: 1.428571429\;>ordially Invites you to our&nbsp\;</span></span><span style=color: rgb(0\, 0\, 0)\; line-height: 90%\; font-family: 'Helvetica Neue'\, Helvetica\, Arial\, sans-serif\;>OPEN HOUSE&nbsp\;</span><span style=color: rgb(0\, 0\, 0)\; line-height: 90%\; font-family: 'Helvetica Neue'\, Helvetica\, Arial\, sans-serif\;>Office Remodel Reveal</span></p>  <p class=DateTime><span style=color: rgb(0\, 0\, 0)\;><span style=line-height: 1.428571429\;>Come see our newly refurbished office and help us thank our Members and suppliers who donated to the project. If it has been a while since you visited our office you will be AMAZED by the transformation. It looks so much better than before and we appreciate everyone who made it possible.&nbsp\;</span><span style=line-height: 1.428571429\;>Snacks and drinks will be served\, you do not want to miss this fun opportunity to network with your peers and meet some new clients! Plenty of parking is available.</span></span></p>  <p class=MsoNormal><span style=font-size: 14px\; color: rgb(0\, 0\, 0)\;>Please R.S.V.P. to <a href=mailto:bmathes@hbaknoxville.com>bmathes@hbaknoxville.com</a> or Fax (865) 546-0031</span><span style=color: rgb(23\, 54\, 93)\; font-size: 14pt\;><o:p></o:p></span></p>
LOCATION:221 Clark Street\, NW Knoxville\, TN
UID:e.9402.645
SEQUENCE:3
DTSTAMP:20260419T142403Z
URL:http://hbaknoxvilletn.memberzone.com/events/details/open-house-hbagk-office-reveal-10-22-2014-645
END:VEVENT

END:VCALENDAR
