BEGIN:VCALENDAR
VERSION:2.0
PRODID:-//ChamberMaster//Event Calendar 2.0//EN
METHOD:PUBLISH
X-PUBLISHED-TTL:P3D
REFRESH-INTERVAL:P3D
CALSCALE:GREGORIAN
BEGIN:VEVENT
DTSTART;VALUE=DATE:20110920
DTEND;VALUE=DATE:20110921
TRANSP:TRANSPARENT
X-MICROSOFT-CDO-ALLDAYEVENT:TRUE
SUMMARY:North County Sector Plan public meeting
DESCRIPTION:The Metropolitan Planning Commission is hosting a public input session about updating the North County Sector Plan. \n  \n Sector plans include a map of proposed land uses\, community facilities and transportation systems. The plan is used in making recommendations for zoning cases and capital improvements.\n  \n At these initial public meetings the MPC will provide information on development trends and existing plans. The background report is available on the MPC website as provided below. We will be soliciting input for land use\, transportation and community facility improvements that need to be addressed in creating the new sector plan. \n  \n Please share this information with your neighbors and colleagues.\n  \n Where:  Halls Senior Center\, 4405 Crippen Road              \n Date:     September 20\, 2011      \n Time:    5:00 to 7:00 pm                             \n  \n Where: Powell Library\, 330 West Emory Road\n Date:    September 26\, 2011\n Time:   5:30 to 7:30 pm\n  \n  \n For additional background information\, please visit the following website: www.knoxmpc.org/northcounty.\n  \n If you have any questions please feel free to email Mike Reynolds at mike.reynolds@knoxmpc.org\, or contact Mike Carberry at 215-2500.
X-ALT-DESC;FMTTYPE=text/html:<span style=font-size: 11pt>The Metropolitan Planning Commission&nbsp\;is hosting a&nbsp\;public input session about updating the North County Sector Plan. </span><br> &nbsp\;<br> <span style=font-size: 11pt>Sector plans include a map of proposed land uses\, community facilities and transportation systems. The plan is used in making recommendations for zoning cases and capital improvements.</span><br> &nbsp\;<br> <span style=font-size: 11pt>At these initial public meetings the MPC will provide information on development trends and existing plans. The background report is available on the MPC website as provided below. We will be soliciting input for land use\, transportation and community facility improvements that need to be addressed in creating the new sector plan. </span><br> &nbsp\;<br> <span style=font-size: 11pt>Please share this information with your neighbors and colleagues.</span><br> &nbsp\;<br> <strong><span style=font-size: medium><span style=font-size: 11pt>Where:&nbsp\;&nbsp\;Halls Senior Center\, 4405 Crippen Road</span></span>&nbsp\;&nbsp\;&nbsp\;&nbsp\;&nbsp\;&nbsp\;&nbsp\;&nbsp\;&nbsp\;&nbsp\;&nbsp\;&nbsp\;&nbsp\;&nbsp\;</strong><br> <strong><span style=font-size: 11pt>Date: &nbsp\;&nbsp\;&nbsp\; September 20\, 2011&nbsp\;&nbsp\;&nbsp\;&nbsp\;&nbsp\;&nbsp\;</span></strong><br> <strong><span style=font-size: 11pt>Time:&nbsp\;&nbsp\;&nbsp\; 5:00 to 7:00 pm&nbsp\;&nbsp\;&nbsp\;&nbsp\;&nbsp\;&nbsp\;&nbsp\;&nbsp\;&nbsp\;&nbsp\;&nbsp\;&nbsp\;&nbsp\;&nbsp\;&nbsp\;&nbsp\;&nbsp\;&nbsp\;&nbsp\;&nbsp\;&nbsp\;&nbsp\;&nbsp\;&nbsp\;&nbsp\;&nbsp\;&nbsp\;&nbsp\;&nbsp\;</span></strong><br> &nbsp\;<br> <strong><span style=font-size: 11pt>Where: Powell Library\, 330 West Emory Road</span></strong><br> <strong><span style=font-size: 11pt>Date:&nbsp\;&nbsp\;&nbsp\; September 26\, 2011</span></strong><br> <strong><span style=font-size: 11pt>Time:&nbsp\;&nbsp\;&nbsp\;5:30 to 7:30 pm</span></strong><br> &nbsp\;<br> &nbsp\;<br> <span style=font-size: 11pt>For additional background information\, please visit the following website: </span><strong><a href=http://www.knoxmpc.org/northcounty target=_blank>www.knoxmpc.org/northcounty</a></strong>.<br> &nbsp\;<br> <span style=font-size: 11pt>If you have any questions please feel free to email Mike Reynolds at </span><a href=mailto:mike.reynolds@knoxmpc.org target=_blank>mike.reynolds@knoxmpc.org</a>\, or contact&nbsp\;Mike Carberry at 215-2500.<br>
LOCATION:4405 Crippen Road Knoxville\, TN
UID:e.9402.336
SEQUENCE:3
DTSTAMP:20260422T224633Z
URL:http://hbaknoxvilletn.memberzone.com/events/details/north-county-sector-plan-public-meeting-09-20-2011-336
END:VEVENT

END:VCALENDAR
