BEGIN:VCALENDAR
VERSION:2.0
PRODID:-//ChamberMaster//Event Calendar 2.0//EN
METHOD:PUBLISH
X-PUBLISHED-TTL:P3D
REFRESH-INTERVAL:P3D
CALSCALE:GREGORIAN
BEGIN:VEVENT
DTSTART:20140602T040000Z
DTEND:20140606T040000Z
X-MICROSOFT-CDO-ALLDAYEVENT:FALSE
SUMMARY:National Safety Stand-Down
DESCRIPTION:The Occupational Safety & Health Administration (OSHA) is requesting that construction companies participate in a National Safety Stand-Down between June 2-6\, 2014 to raise awareness about fall hazards on the job. Falls from elevations continue to be the number one cause of death for residential construction workers and NAHB's data for home building shows that the leading causes are falls from roofs\, ladders\, and scaffolding.  The National Safety Stand-Down is a voluntary event that encourages employers and workers throughout the country to pause their workday to talk about fall hazards and to reinforce the importance of fall protection.
X-ALT-DESC;FMTTYPE=text/html:<p class=MsoNoSpacing><span style=font-family:&quot\;Arial&quot\;\,&quot\;sans-serif&quot\;>The Occupational Safety &amp\; Health Administration (OSHA) is requesting that construction companies participate in a <a href=http://www.mmsend1.com/link.cfm?r=698241799&amp\;sid=39202459&amp\;m=4271185&amp\;u=frmem&amp\;j=18437323&amp\;s=https://www.osha.gov/StopFallsStandDown/index.html>National Safety Stand-Down</a> between June 2-6\, 2014 to raise awareness about fall hazards on the job. Falls from elevations continue to be the number one cause of death for residential construction workers and NAHB's data for home building shows that the leading causes are falls from roofs\, ladders\, and scaffolding.<o:p></o:p></span></p>  <p class=MsoNoSpacing><span style=font-family: Arial\, sans-serif\; line-height: 1.428571429\;>The National Safety Stand-Down is a voluntary event that encourages employers and workers throughout the country to pause their workday to talk about fall hazards and to reinforce the importance of fall protection.&nbsp\;</span></p>
LOCATION:
UID:e.9402.607
SEQUENCE:3
DTSTAMP:20260419T205625Z
URL:http://hbaknoxvilletn.memberzone.com/events/details/national-safety-stand-down-06-02-2014-607
END:VEVENT

END:VCALENDAR
