BEGIN:VCALENDAR
VERSION:2.0
PRODID:-//ChamberMaster//Event Calendar 2.0//EN
METHOD:PUBLISH
X-PUBLISHED-TTL:P3D
REFRESH-INTERVAL:P3D
CALSCALE:GREGORIAN
BEGIN:VEVENT
DTSTART;VALUE=DATE:20110831
DTEND;VALUE=DATE:20110901
TRANSP:TRANSPARENT
X-MICROSOFT-CDO-ALLDAYEVENT:TRUE
SUMMARY:Membership Retention Party
DESCRIPTION:Membership Retention Party It's Renewal Time at the Home Builders Association of Greater Knoxville! Payment options are available Pay $250 then the balance of $247 over 3 months by December 2011 ($497 total due). LAPSED Members can renew NOW for a chance to win a pair of UT FOOTBALL TICKETS donated by Verizon Wireless. Deadline for prize eligibility is Monday\, September 26 (initial $250 dues payment required). The HBAGK Board of Directors and Membership Committee will host a Retention Call Day on Wednesday afternoon\, August 31 at 2:30 PM All members\, past and present\, are invited to attend. We will meet at the HBAGK office\, 221 Clark St\, Knoxville 37921. Snacks\, hotdogs and drinks will be provided. We are aware that the economy has been a struggle for everyone in our industry the past couple of years but membership in our association still has value and benefits. We are looking out for your best interests with regulations at home\, in Nashville and Washington DC. Member Rebate Programs are available through the HBA of Tennessee website. On average it pays more than $1\,000 per Builder member\, and there is a new program being developed for Associates too. The Workers Compensation discount program provided by HBAT-SIT is a valuable resource for all members. And of course there are many local meetings and special events to promote your business: The Home Show \, The Parade of Homes \, our annual Golf Tournament\, Holiday Celebration and membership meetings are great ways to network with industry professionals. Please join us at our next Membership Meeting - the 2011 "Housing Summit" on Monday\, September 12\, 4:30 at Rothchild Catering located at 8807 Kingston Pike\, Knoxville 37923. Admission is only $5 per person thanks to our sponsors\, Regions Bank. Thank you\,
X-ALT-DESC;FMTTYPE=text/html:<p style=text-align: center><span style=color: #ff8c00><strong><span style=font-size: 18px>Membership Retention Party</span></strong></span></p> <p style=text-align: center><strong>It&rsquo\;s Renewal Time at the Home Builders Association of Greater Knoxville!</strong></p> <p><strong>Payment options are available</strong></p> <p>Pay $250 then the balance of $247 over 3 months by December 2011 (<strong>$497 total due</strong>).</p> <p><em><u><strong>LAPSED Members </strong></u></em>can renew NOW for a chance to win a pair of <strong>UT FOOTBALL TICKETS </strong>donated by <a href=http://www.verizonwireless.com><em><span style=color: #ff0000><strong>Verizon Wireless</strong></span></em></a>. Deadline for prize eligibility is Monday\, September 26 (initial $250 dues payment required).</p> <p><strong>The HBAGK Board of Directors and Membership Committee will host a Retention Call Day on Wednesday afternoon\, August 31 at 2:30 PM</strong></p> <p>All members\, past and present\, are invited to attend. We will meet at the HBAGK office\, 221 Clark St\, Knoxville 37921. Snacks\, hotdogs and drinks will be provided. We are aware that the economy has been a struggle for everyone in our industry the past couple of years but membership in our association still has value and benefits. We are looking out for your best interests with regulations at home\, in Nashville and Washington DC.</p> <p><a href=http://www.hbarebates.com/hbat.html>Member Rebate Programs</a> are available through the <a href=http://www.hbat.org/>HBA of Tennessee website</a>. On average it pays more than $1\,000 per Builder member\, and there is a new program being developed for Associates too.</p> <p>The <a href=http://www.buildingwithsafety.com/>Workers Compensation discount program</a> provided by HBAT-SIT is a valuable resource for all members.</p> <p>And of course there are many local meetings and special events to promote your business: The Home Show&trade\;\, The Parade of Homes&reg\;\, our annual Golf Tournament\, Holiday Celebration and membership meetings are great ways to network with industry professionals.</p> <p>Please join us at our next Membership Meeting - the 2011 &quot\;Housing Summit&quot\; on Monday\, September 12\, 4:30 at Rothchild Catering located at 8807 Kingston Pike\, Knoxville 37923. Admission is only $5 per person thanks to our sponsors\, <a href=http://www.regions.com>Regions Bank</a>.</p> <p>Thank you\,</p>
LOCATION:221 Clark Street\, NW Knoxville\, TN
UID:e.9402.332
SEQUENCE:3
DTSTAMP:20260422T225511Z
URL:http://hbaknoxvilletn.memberzone.com/events/details/membership-retention-party-08-31-2011-332
END:VEVENT

END:VCALENDAR
