BEGIN:VCALENDAR
VERSION:2.0
PRODID:-//ChamberMaster//Event Calendar 2.0//EN
METHOD:PUBLISH
X-PUBLISHED-TTL:P3D
REFRESH-INTERVAL:P3D
CALSCALE:GREGORIAN
BEGIN:VEVENT
DTSTART;VALUE=DATE:20090131
DTEND;VALUE=DATE:20090201
TRANSP:TRANSPARENT
X-MICROSOFT-CDO-ALLDAYEVENT:TRUE
SUMMARY:Membership Meeting - Installation & Awards Banquet
DESCRIPTION:PLEASE NOTE NEW DATE - 1/31/09 Home Builders Association of Greater Knoxville  January Membership Meeting Program Knoxville Mayor Bill Haslam Candidate for Governor  Installation & Awards Banquet - Rothchild Catering Center   Come see our newly appointed officers and directors as we start the new year. Awards and other recognitions will be presented to members of the association. Space is limited and payment is required to secure your reservation.    Saturday\, January 31\, 2009 6:00 p.m. Reception\; 6:40 p.m. Dinner   $25 per person - Includes dinner and cash bar. Special dietary requests must be made by 1/27/09    Due to limited space you must send payment to secure your reservation.  Reservations and cancellations due by noon\, Tuesday\, January 27\, 2009 Reservations are accepted on a first-come-first-serve basis for PAID guests. Cancellations after 1/27/09 and no shows are still responsible for payment of the reservation.
X-ALT-DESC;FMTTYPE=text/html:<div style=margin: 0in 0in 0pt align=center><span style=color: #ff0000><strong><span style=font-size: 16pt>PLEASE NOTE NEW DATE - 1/31/09</span></strong></span></div> <div style=margin: 0in 0in 0pt align=center><font color=#ff6600><strong><span style=font-size: 16pt\; color: blue><span style=font-size: 16pt\; color: blue><span style=font-size: 16pt\; color: blue /></span>Home Builders Association of Greater </span></strong><strong><span style=font-size: 16pt\; color: blue>Knoxville</span></strong></font></div> <div style=margin: 0in 0in 0pt align=center><strong><font size=5>&nbsp\;January Membership Meeting</font></strong></div> <div style=margin: 0in 0in 0pt align=center><strong><font size=5><em><span style=font-size: 16pt>Program</span></em></font></strong></div> <div style=margin: 0in 0in 0pt align=center><strong><font size=5><em><span style=font-size: 16pt>Knoxville Mayor Bill Haslam</span></em></font></strong></div> <div style=margin: 0in 0in 0pt align=center><strong><font size=5><em><span style=font-size: 16pt>Candidate for Governor</span></em></font></strong></div> <div style=margin: 0in 0in 0pt align=center> <p><strong><font size=2><span style=font-size: 16pt\; color: blue>Installation &amp\; Awards Banquet - Rothchild Catering Center</span></font></strong></p> <p><strong><font size=2><span style=font-size: 16pt\; color: blue /></font></strong></p> </div> <div style=margin: 0in 0in 0pt>Come see our newly appointed officers and directors as we start the new year. Awards and other recognitions will be presented to members of the association. Space is limited and <u>payment is required</u> to secure your reservation.</div> <div style=margin: 0in 0in 0pt align=center>&nbsp\;</div> <div style=margin: 0in 0in 0pt align=center> <p><strong><font size=6><span style=font-size: 14pt>Saturday\, January 31\, 2009</span></font></strong></p> <p><span style=font-size: 14pt>6:00 p.m. Reception\; 6:40 p.m. Dinner</span></p> </div> <div style=margin: 0in 0in 0pt align=center><span style=font-size: 15px> <div style=margin: 0in 0in 0pt align=center><font color=#ff0000>$25 per person - Includes dinner and cash bar. Special dietary requests must be made by 1/27/09</font></div> </span>&nbsp\;</div> <div style=margin: 0in 0in 0pt align=center> <div style=margin: 0in 0in 0pt><strong><font size=4><span style=font-size: 12pt>Due to limited space <u>you must send payment to secure your reservation</u>. </span></font></strong></div> <div style=margin: 0in 0in 0pt><strong><font size=4><span style=font-size: 12pt>Reservations and cancellations due by </span><span style=font-size: 12pt>noon</span><span style=font-size: 12pt>\, Tues</span><span style=font-size: 12pt>day\, January 27\, 2009</span></font></strong></div> <div style=margin: 0in 0in 0pt align=center><strong><span style=color: red>Reservations are accepted on a first</span></strong><strong><span style=color: red>-</span></strong><strong><span style=color: red>come</span></strong><strong><span style=color: red>-</span></strong><strong><span style=color: red>first</span></strong><strong><span style=color: red>-</span></strong><strong><span style=color: red>serve basis for <u>PAID</u> guests.</span></strong></div> <div style=margin: 0in 0in 0pt align=center><strong><span style=color: red>Cancellations after&nbsp\;1/27/09</span></strong><strong><span style=color: red> and no shows are still responsible for payment of the reservation</span></strong><span style=color: red>.</span></div> </div>
LOCATION:8807 Kingston Pike Knoxville\, TN
UID:e.9402.152
SEQUENCE:3
DTSTAMP:20260425T140606Z
URL:http://hbaknoxvilletn.memberzone.com/events/details/membership-meeting-installation-awards-banquet-01-31-2009-152
END:VEVENT

END:VCALENDAR
