BEGIN:VCALENDAR
VERSION:2.0
PRODID:-//ChamberMaster//Event Calendar 2.0//EN
METHOD:PUBLISH
X-PUBLISHED-TTL:P3D
REFRESH-INTERVAL:P3D
CALSCALE:GREGORIAN
BEGIN:VEVENT
DTSTART;VALUE=DATE:20100206
DTEND;VALUE=DATE:20100207
TRANSP:TRANSPARENT
X-MICROSOFT-CDO-ALLDAYEVENT:TRUE
SUMMARY:Membership Meeting / Awards Banquet
DESCRIPTION:Home Builders Association of Greater Knoxville\n\n January Membership Meeting\n\n\nInstallation & Awards Banquet - Gettysvue Country Club\n\n \n\n\nPlease join us as new officers will be introduced\, awards and other recognitions will be presented to members of the association. Space is limited and payment is required to secure your reservation. Due to the weekend weather forecast we have rescheduled the meeting for Saturday\, February 6\, 2010.\n\n \n\n\nNEW DATE - Saturday\, January 30\, 2010 February 6\, 2010\n\n6:00 p.m. Reception\; 6:40 p.m. Dinner\n\n\n\n$25 per person - Includes dinner and cash bar. Special dietary requests must be made by Tuesday\, 2/2/10\n\n\n\nDue to limited space you must send payment to secure your reservation. \n\nReservations and cancellations due by noon\, Tuesday\, February 2\, 2010\n\nReservations are accepted on a first-come-first-serve basis for PAID guests.\n\nCancellations after Tuesday\, 2/2/10 and no shows are still responsible for payment of the reservation.\n\n\nDirections\n\nFrom I-40 East Bound\n\nTake the Pellissippi Parkway\, I-140\, exit towards Maryville/Alcoa. Follow Pellissippi Parkway to the Westland Drive exit\, exit number 3. Turn left at the bottom of the ramp onto Westland Drive. Continue on Westland Drive for approximately 1.5 miles\; turn left onto Gettysvue Way at the Gettysvue Entrance. Go up the hill and take the first right onto Linksvue Drive. The clubhouse and parking lot will be on the left-hand side. \n\nFrom I-40 West Bound\n\nTake the Cedar Bluff South exit\, turn left at the bottom of the ramp onto Cedar Bluff Road. At the intersection of Kingston Pike and Cedar Bluff\, turn left onto Kingston Pike. Take the first right hand turn onto South Peters Road. Continue up the hill and make the second right hand turn onto Linksvue Drive. Follow Linksvue Drive up the hill\, the clubhouse and parking lot will be on the right-hand side.
X-ALT-DESC;FMTTYPE=text/html:<div 0in="" 0pt="" align="center" style="margin:"><font color="#ff6600"><strong><span 16pt="" style="font-size:">Home Builders Association of Greater </span></strong><strong><span 16pt="" style="font-size:">Knoxville</span></strong></font></div>\n\n<div 0in="" 0pt="" align="center" style="margin:"><strong><font size="5">&nbsp\;January Membership Meeting</font></strong></div>\n\n<div 0in="" 0pt="" align="center" style="margin:">\n<p><strong><font size="2"><span 16pt="" style="font-size:">Installation &amp\; Awards Banquet - Gettysvue Country Club</span></font></strong></p>\n\n<p>&nbsp\;</p>\n</div>\n\n<div 0in="" 0pt="" style="margin:">Please join us as new officers will be introduced\, awards and other recognitions will be presented to members of the association. Space is limited and <u>payment is required</u> to secure your reservation. Due to the weekend weather forecast we have rescheduled the meeting for Saturday\, February 6\, 2010.</div>\n\n<div 0in="" 0pt="" align="center" style="margin:">&nbsp\;</div>\n\n<div 0in="" 0pt="" align="center" style="margin:">\n<p><span ff0000="" style="color:"><span><strong><font size="6"><span 14pt="" style="font-size:">NEW DATE</span></font></strong></span></span><span ff6600="" style="color:"><strong><font size="6"><span 14pt="" style="font-size:"> - Saturday\, <strike>January 30\, 2010</strike> February 6\, 2010</span></font></strong></span></p>\n\n<p><span 14pt="" style="font-size:">6:00 p.m. Reception\; 6:40 p.m. Dinner</span></p>\n</div>\n\n<div 0in="" 0pt="" align="center" style="margin:">\n<div 0in="" 0pt="" align="center" style="margin:"><span 15px="" style="font-size:"><font color="#ff0000">$25 per person - Includes dinner and cash bar. Special dietary requests must be made by Tuesday\, 2/2/10</font></span></div>\n</div>\n\n<div 0in="" 0pt="" align="center" style="margin:">\n<div 0in="" 0pt="" style="margin:"><strong><font size="4"><span 12pt="" style="font-size:">Due to limited space <u>you must send payment to secure your reservation</u>. </span></font></strong></div>\n\n<div 0in="" 0pt="" style="margin:"><strong><font size="4"><span 12pt="" style="font-size:">Reservations and cancellations due by </span><span 12pt="" style="font-size:">noon</span><span 12pt="" style="font-size:">\, Tues</span><span 12pt="" style="font-size:">day\,&nbsp\;February 2\, 2010</span></font></strong></div>\n\n<div 0in="" 0pt="" align="center" style="margin:"><strong><span red="" style="color:">Reservations are accepted on a first</span></strong><strong><span red="" style="color:">-</span></strong><strong><span red="" style="color:">come</span></strong><strong><span red="" style="color:">-</span></strong><strong><span red="" style="color:">first</span></strong><strong><span red="" style="color:">-</span></strong><strong><span red="" style="color:">serve basis for <u>PAID</u> guests.</span></strong></div>\n\n<div 0in="" 0pt="" align="center" style="margin:"><strong><span red="" style="color:">Cancellations after&nbsp\;Tuesday\, 2/2/10</span></strong><strong><span red="" style="color:"> and no shows are still responsible for payment of the reservation</span></strong><span red="" style="color:">.</span></div>\n</div>\n\n<p 12pt="" style="line-height:"><b><span color:="" font-family:="" style="font-size:">Directions<o:p></o:p></span></b></p>\n\n<p 12pt="" style="line-height:"><b><span color:="" font-family:="" style="font-size:">From I-40 East Bound</span></b><br />\n<span color:="" font-family:="" style="font-size:">Take the Pellissippi Parkway\, I-140\, exit towards Maryville/Alcoa. Follow Pellissippi Parkway to the Westland Drive exit\, exit number 3. Turn left at the bottom of the ramp onto Westland Drive. Continue on Westland Drive for approximately 1.5 miles\; turn left onto Gettysvue Way at the Gettysvue Entrance. Go up the hill and take the first right onto Linksvue Drive. The clubhouse and parking lot will be on the left-hand side. <o:p></o:p></span></p>\n\n<p 12pt="" style="line-height:"><b><span color:="" font-family:="" style="font-size:">From I-40 West Bound</span></b><br />\n<span color:="" font-family:="" style="font-size:">Take the Cedar Bluff South exit\, turn left at the bottom of the ramp onto Cedar Bluff Road. At the intersection of Kingston Pike and Cedar Bluff\, turn left onto Kingston Pike. Take the first right hand turn onto South Peters Road. Continue up the hill and make the second right hand turn onto Linksvue Drive. Follow Linksvue Drive up the hill\, the clubhouse and parking lot will be on the right-hand side.</span></p>\n
LOCATION:9317 Linksvue Drive Knoxville\, TN
UID:e.9402.201
SEQUENCE:3
DTSTAMP:20260424T153525Z
URL:http://hbaknoxvilletn.memberzone.com/events/details/membership-meeting-awards-banquet-02-06-2010-201
END:VEVENT

END:VCALENDAR
