BEGIN:VCALENDAR
VERSION:2.0
PRODID:-//ChamberMaster//Event Calendar 2.0//EN
METHOD:PUBLISH
X-PUBLISHED-TTL:P3D
REFRESH-INTERVAL:P3D
CALSCALE:GREGORIAN
BEGIN:VEVENT
DTSTART;VALUE=DATE:20081014
DTEND;VALUE=DATE:20081015
TRANSP:TRANSPARENT
X-MICROSOFT-CDO-ALLDAYEVENT:TRUE
SUMMARY:Membership Meeting
DESCRIPTION:October Membership Meeting Parade of Homes Awards Dinner Please join us at our 6th Annual Parade of Homes  Awards Dinner. Gold\, Silver\, and Perfect Score awards will be presented in the various price categories. In an effort to make this meeting more accessible to more members we have streamlined the event allowing us to reduce the admission fee. Registration is only $30* and includes a buffet dinner with a cash bar. Make your reservations early.  *RESERVATIONS ARE REQUIRED. Admission is $30 if reservation is made in advance\, $40 at the door and only if space is available. Reservations and cancellations are due by October 10\, 2008. A credit card is REQUIRED to hold ALL RESERVATIONS.
X-ALT-DESC;FMTTYPE=text/html:<p style=text-align: center><span style=color: #000080><span style=font-size: large>October Membership Meeting</span></span></p> <p style=text-align: center><span style=color: #000080><span style=font-size: large>Parade of Homes Awards Dinner</span></span></p> <p>Please join us at our 6th Annual Parade of Homes&trade\; Awards Dinner. Gold\, Silver\, and Perfect Score awards will be presented in the various price categories.&nbsp\;In an effort to make this meeting more accessible to more members we have streamlined the event allowing us to reduce the admission fee. Registration is only $30* and includes a buffet dinner with a cash bar.&nbsp\;Make your reservations early.&nbsp\;</p> <div>*RESERVATIONS ARE REQUIRED. Admission is $30 if reservation is made in advance\, $40 at the door and only if space is available. Reservations and cancellations are due by October 10\, 2008. A credit card is REQUIRED to hold ALL RESERVATIONS.</div>
LOCATION:8807 Kingston Pike Knoxville\, TN
UID:e.9402.139
SEQUENCE:3
DTSTAMP:20260426T024631Z
URL:http://hbaknoxvilletn.memberzone.com/events/details/membership-meeting-10-14-2008-139
END:VEVENT

END:VCALENDAR
