BEGIN:VCALENDAR
VERSION:2.0
PRODID:-//ChamberMaster//Event Calendar 2.0//EN
METHOD:PUBLISH
X-PUBLISHED-TTL:P3D
REFRESH-INTERVAL:P3D
CALSCALE:GREGORIAN
BEGIN:VEVENT
DTSTART;VALUE=DATE:20080826
DTEND;VALUE=DATE:20080827
TRANSP:TRANSPARENT
X-MICROSOFT-CDO-ALLDAYEVENT:TRUE
SUMMARY:Membership Meeting
DESCRIPTION:August Membership Meeting Congressman John J. Duncan\, Jr. will be our guest speaker at the August membership meeting. Don't miss this exclusive opportunity to hear Congressman Duncan's thoughts on the economy\, international issues\, and most importantly\, how all this impacts his constituents. Registration is only $25* and includes a buffet dinner. Space is limited to the first 100 people. Make your reservations early. *RESERVATIONS ARE REQUIRED. Admission is $25 if reservation is made in advance\, $35 at the door and only if space is available. Reservations and cancellations are due by August 22\, 2008. A credit card is REQUIRED to hold ALL RESERVATIONS.
X-ALT-DESC;FMTTYPE=text/html:<p style=text-align: center><span style=color: #000080><span style=font-size: large>August Membership Meeting</span></span></p> <p>Congressman John J. Duncan\, Jr. will be our guest speaker at the August membership meeting. Don&rsquo\;t miss this exclusive opportunity to hear Congressman Duncan&rsquo\;s thoughts on the economy\, international issues\, and most importantly\, how all this impacts his constituents. Registration is only $25* and includes a buffet dinner. <u><span style=color: #ff0000>Space is limited to the first 100 people.</span></u> Make your reservations early.</p> <p>*RESERVATIONS ARE REQUIRED. Admission is $25 if reservation is made in advance\, $35 at the door and only if space is available. Reservations and cancellations are due by August 22\, 2008. A credit card is REQUIRED to hold ALL RESERVATIONS.</p>
LOCATION:8807 Kingston Pike Knoxville\, TN
UID:e.9402.128
SEQUENCE:3
DTSTAMP:20260426T041025Z
URL:http://hbaknoxvilletn.memberzone.com/events/details/membership-meeting-08-26-2008-128
END:VEVENT

END:VCALENDAR
