BEGIN:VCALENDAR
VERSION:2.0
PRODID:-//ChamberMaster//Event Calendar 2.0//EN
METHOD:PUBLISH
X-PUBLISHED-TTL:P3D
REFRESH-INTERVAL:P3D
CALSCALE:GREGORIAN
BEGIN:VEVENT
DTSTART;VALUE=DATE:20130912
DTEND;VALUE=DATE:20130913
TRANSP:TRANSPARENT
X-MICROSOFT-CDO-ALLDAYEVENT:TRUE
SUMMARY:Membership DRIVE planning
DESCRIPTION:It's time to plan our fall Membership Drive\, coordinate Team Captains and our plan our strategy for success!!\n    \n    We will meet at the Home Builders office at 10 AM tomorrow morning\, September 12 to lay out our plans for the drive (I apologize for the late notice but I hope you received Rick's email the other day). You can prepare by working on your contact lists for potential members\, and also thinking of why you belong as a member and why everyone else in our industry should be too. A list of testimonials can be incorporated as part of the membership drive.\n    \n    RSVP\n    \n    (You can retrieve your login name & password by clicking the registration link in this message then following the prompt using your email address to have the information sent to you)
X-ALT-DESC;FMTTYPE=text/html:<p>It&#39\;s time to plan our fall Membership Drive\, coordinate Team Captains and our plan our strategy for success!!<br>    <br>    We will meet at the Home Builders office at 10 AM tomorrow morning\, September 12 to lay out our plans for the drive (I apologize for the late notice but I hope you received Rick&#39\;s email the other day). You can prepare by working on your contact lists for potential members\, and also thinking of why you belong as a member and why everyone else in our industry should be too. A list of testimonials can be incorporated as part of the membership drive.<br>    <br>    RSVP<br>    <br>    <span style=background-color: #ffff00><strong>(You can retrieve your login name &amp\; password by clicking the registration link in this message then following the prompt using your email address to have the information sent to you)</strong></span><br>    &nbsp\;</p>
LOCATION:221 Clark Street\, NW Knoxville\, TN
UID:e.9402.548
SEQUENCE:3
DTSTAMP:20260420T174958Z
URL:http://hbaknoxvilletn.memberzone.com/events/details/membership-drive-planning-09-12-2013-548
END:VEVENT

END:VCALENDAR
