BEGIN:VCALENDAR
VERSION:2.0
PRODID:-//ChamberMaster//Event Calendar 2.0//EN
METHOD:PUBLISH
X-PUBLISHED-TTL:P3D
REFRESH-INTERVAL:P3D
CALSCALE:GREGORIAN
BEGIN:VEVENT
DTSTART;VALUE=DATE:20110119
DTEND;VALUE=DATE:20110120
TRANSP:TRANSPARENT
X-MICROSOFT-CDO-ALLDAYEVENT:TRUE
SUMMARY:Membership Committee - NEW DATE 1/19/11
DESCRIPTION:RESCHEDULED for Wednesday\, 1/19/11 at 12:00 noon. Thank you for volunteering to serve on this very important committee!  We will be planning for 2011 and REALLY NEED YOUR ATTENDANCE AT THIS MEETING. We are preparing for an exciting year with new officers and leadership ready for the challenges ahead.  Mike Stevens is the Membership Committee Chair this year. If you know of other members who would be good additions to this committee please invite them to join us. Please respond to let us know if you can attend and if you will be having lunch so we can order enough food. Lunch is available for $8 and we accept checks\, credit cards and cash.
X-ALT-DESC;FMTTYPE=text/html:<p>RESCHEDULED for Wednesday\, 1/19/11 at 12:00 noon. Thank you for volunteering to serve on this very important committee!&nbsp\; We will be planning for 2011 and REALLY NEED YOUR ATTENDANCE AT THIS MEETING.&nbsp\;We are preparing for an exciting year&nbsp\;with new officers and leadership ready for the challenges ahead.&nbsp\;</p> <p>Mike Stevens is the Membership Committee Chair this year. If&nbsp\;you know of other members who would be good additions to this committee please invite them to join us. <u>Please respond </u>to let us know if you can attend and if you will be having&nbsp\;lunch so we can&nbsp\;order enough food. Lunch is available for $8 and we accept checks\, credit cards and cash.</p>
LOCATION:221 Clark Street\, NW Knoxville\, TN
UID:e.9402.257
SEQUENCE:3
DTSTAMP:20260423T203507Z
URL:http://hbaknoxvilletn.memberzone.com/events/details/membership-committee-new-date-1-19-11-01-19-2011-257
END:VEVENT

END:VCALENDAR
