BEGIN:VCALENDAR
VERSION:2.0
PRODID:-//ChamberMaster//Event Calendar 2.0//EN
METHOD:PUBLISH
X-PUBLISHED-TTL:P3D
REFRESH-INTERVAL:P3D
CALSCALE:GREGORIAN
BEGIN:VEVENT
DTSTART;VALUE=DATE:20111024
DTEND;VALUE=DATE:20111025
TRANSP:TRANSPARENT
X-MICROSOFT-CDO-ALLDAYEVENT:TRUE
SUMMARY:Membership Committee
DESCRIPTION:Thank you for volunteering to serve on the HBAGK Membership Committee.  We will meet at 11:00 AM\, MONDAY\, 10/24/11 for our monthly meeting. WE WILL NOT ORDER LUNCH FOR THIS MEETING.\n    \n    Member Rebate Programs are available through the HBA of Tennessee website. On average it pays more than $1\,000 per Builder member\, and there is a new program being developed for Associates too. The Workers Compensation discount program provided by HBAT-SIT is a valuable resource for all members. And there are many local meetings and special events to promote your business: The Home Show \, The Parade of Homes \, our annual Golf Tournament\, Holiday Celebration and membership meetings are great ways to network with industry professionals. Please join us at our next Membership Meeting\, a Hotdog Lunch with Knoxville Mayoral Candidate Mark Padgett - Thursday\, 10/20/11 at our office. Admission is FREE thanks to our sponsor\, Construction Development Services.  If you know of other members who would be good additions to this committee please invite them to join us. Please respond to let us know if you can attend so we can prepare our materials.
X-ALT-DESC;FMTTYPE=text/html:<p>Thank you for volunteering to serve on the HBAGK Membership Committee.&nbsp\; We will meet at 11:00 AM\,&nbsp\;<strong>MONDAY\, 10/24/11&nbsp\;</strong>for our monthly meeting. <u>WE WILL NOT ORDER LUNCH FOR THIS MEETING</u>.<br>    <br>    <a href=http://www.hbarebates.com/hbat.html>Member Rebate Programs</a> are available through the <a href=http://www.hbat.org/>HBA of Tennessee website</a>. On average it pays more than $1\,000 per Builder member\, and there is a new program being developed for Associates too.</p> <p>The <a href=http://www.buildingwithsafety.com/>Workers Compensation discount program</a> provided by HBAT-SIT is a valuable resource for all members.</p> <p>And there are many local meetings and special events to promote your business: The Home Show&trade\;\, The Parade of Homes&reg\;\, our annual Golf Tournament\, Holiday Celebration and membership meetings are great ways to network with industry professionals.</p> <p>Please join us at our next Membership Meeting\, a Hotdog Lunch with Knoxville Mayoral Candidate Mark Padgett - Thursday\, 10/20/11 at&nbsp\;our office. Admission is FREE&nbsp\;thanks to our sponsor\, Construction Development Services.&nbsp\;</p> <p>If&nbsp\;you know of other members who would be good additions to this committee please invite them to join us. <span style=color: #ff0000><strong><u>Please respond </u></strong></span>to let us know if you can attend so we can prepare our materials.</p>
LOCATION:221 Clark Street\, NW Knoxville\, TN
UID:e.9402.347
SEQUENCE:3
DTSTAMP:20260422T205851Z
URL:http://hbaknoxvilletn.memberzone.com/events/details/membership-committee-10-24-2011-347
END:VEVENT

END:VCALENDAR
