BEGIN:VCALENDAR
VERSION:2.0
PRODID:-//ChamberMaster//Event Calendar 2.0//EN
METHOD:PUBLISH
X-PUBLISHED-TTL:P3D
REFRESH-INTERVAL:P3D
CALSCALE:GREGORIAN
BEGIN:VEVENT
DTSTART;VALUE=DATE:20121017
DTEND;VALUE=DATE:20121018
TRANSP:TRANSPARENT
X-MICROSOFT-CDO-ALLDAYEVENT:TRUE
SUMMARY:Membership Committee
DESCRIPTION:Thank you for volunteering to serve on the HBAGK Membership Committee.  We meet on the third Wednesday of each month at the HBAGK office. Our next meeting is scheduled for 12:00 noon on 10/17. Lunch is available for $8 but we only order enough for the people who RSVP so please respond and let us know if you will be having lunch. Thanks!\n    \n    (You can retrieve your login name & password by clicking the registration link in this message then following the prompt using your email address to have the information sent to you)\n    \n    If you know of other members who would be good additions to this committee please invite them to join us. Please respond to let us know if you can attend so we can prepare our materials.
X-ALT-DESC;FMTTYPE=text/html:<p>Thank you for volunteering to serve on the HBAGK Membership Committee.&nbsp\; We&nbsp\;meet on the third Wednesday of each month at the HBAGK office. Our next meeting is scheduled for 12:00 noon on 10/17. Lunch is available for $8 but we only order enough for the people who RSVP so please respond and let us know if you will be having lunch. Thanks!<br>    <br>    <span style=background-color: #ffff00><strong>(You can retrieve your login name &amp\; password by clicking the registration link in this message then following the prompt using your email address to have the information sent to you)</strong></span><br>    <br>    If&nbsp\;you know of other members who would be good additions to this committee please invite them to join us. <span style=color: #ff0000><strong><u>Please respond </u></strong></span>to let us know if you can attend so we can prepare our materials.<br>    <br>    &nbsp\;</p>
LOCATION:221 Clark Street\, NW Knoxville\, TN
UID:e.9402.456
SEQUENCE:3
DTSTAMP:20260421T153155Z
URL:http://hbaknoxvilletn.memberzone.com/events/details/membership-committee-10-17-2012-456
END:VEVENT

END:VCALENDAR
