BEGIN:VCALENDAR
VERSION:2.0
PRODID:-//ChamberMaster//Event Calendar 2.0//EN
METHOD:PUBLISH
X-PUBLISHED-TTL:P3D
REFRESH-INTERVAL:P3D
CALSCALE:GREGORIAN
BEGIN:VEVENT
DTSTART;VALUE=DATE:20131016
DTEND;VALUE=DATE:20131017
TRANSP:TRANSPARENT
X-MICROSOFT-CDO-ALLDAYEVENT:TRUE
SUMMARY:Membership Committee
DESCRIPTION:The Membership Drive is underway but there is still committee work to be done this Wednesday. This is a great opportunity to gather your recruitment tools and discuss strategy! RSVP and let us know if you would like to order lunch\, sandwich or salad for $8. \n    \n    HBAGK Twitter: https://twitter.com/HBAGK\n    HBAGK Facebook: http://www.facebook.com/#!/pages/Home-Builders-Association-of-Greater-Knoxville/120653504698611?bookmark_t=page\n    \n    (You can retrieve your login name & password by clicking the registration link in this message then following the prompt using your email address to have the information sent to you)
X-ALT-DESC;FMTTYPE=text/html:<p>The Membership Drive is underway but there is still committee work to be done this Wednesday. This is a great opportunity to gather your recruitment tools and discuss strategy! RSVP and let us know if you would like to order lunch\, sandwich or salad for $8.&nbsp\;<br>    <br>    HBAGK Twitter: <a href=https://twitter.com/HBAGK>https://twitter.com/HBAGK</a><br>    HBAGK Facebook: <a href=http://www.facebook.com/#!/pages/Home-Builders-Association-of-Greater-Knoxville/120653504698611?bookmark_t=page>http://www.facebook.com/#!/pages/Home-Builders-Association-of-Greater-Knoxville/120653504698611?bookmark_t=page</a><br>    <br>    <span style=background-color: #ffff00><strong>(You can retrieve your login name &amp\; password by clicking the registration link in this message then following the prompt using your email address to have the information sent to you)</strong></span><br>    &nbsp\;</p>
LOCATION:221 Clark Street\, NW Knoxville\, TN
UID:e.9402.560
SEQUENCE:3
DTSTAMP:20260420T162414Z
URL:http://hbaknoxvilletn.memberzone.com/events/details/membership-committee-10-16-2013-560
END:VEVENT

END:VCALENDAR
