BEGIN:VCALENDAR
VERSION:2.0
PRODID:-//ChamberMaster//Event Calendar 2.0//EN
METHOD:PUBLISH
X-PUBLISHED-TTL:P3D
REFRESH-INTERVAL:P3D
CALSCALE:GREGORIAN
BEGIN:VEVENT
DTSTART;VALUE=DATE:20140917
DTEND;VALUE=DATE:20140918
TRANSP:TRANSPARENT
X-MICROSOFT-CDO-ALLDAYEVENT:TRUE
SUMMARY:Membership Committee
DESCRIPTION:The HBAGK Membership Committee will meet on Wednesday\, September 17th at the HBAGK office. We will plan our fall membership drive so please make every attempt to be there. This year we plan to use a fantasy draft theme to recruit new members. RSVP for attendance and lunch\, optional for $8. Thank you!Follow HBAGK on Twitter: https://twitter.com/HBAGK\nLike our HBAGK Facebook page: http://www.facebook.com/#!/pages/Home-Builders-Association-of-Greater-Knoxville/120653504698611?bookmark_t=page\n    \n    (You can retrieve your login name & password by clicking the registration link in this message then following the prompt using your email address to have the information sent to you)
X-ALT-DESC;FMTTYPE=text/html:<p>The HBAGK Membership Committee will meet on Wednesday\, September 17th at the HBAGK office. We will plan our fall membership drive so please make every attempt to be there. This year we plan to use a fantasy draft theme to recruit new members. RSVP for attendance and lunch\, optional for $8. Thank you!</p><p><span style=line-height: 1.428571429\;>Follow HBAGK on Twitter: </span><a href=https://twitter.com/HBAGK style=background-color: rgb(255\, 255\, 255)\; line-height: 1.428571429\;>https://twitter.com/HBAGK</a><br></p><p>Like our HBAGK Facebook page: <a href=http://www.facebook.com/#!/pages/Home-Builders-Association-of-Greater-Knoxville/120653504698611?bookmark_t=page>http://www.facebook.com/#!/pages/Home-Builders-Association-of-Greater-Knoxville/120653504698611?bookmark_t=page</a><br>    <br>    <span style=background-color: #ffff00><strong>(You can retrieve your login name &amp\; password by clicking the registration link in this message then following the prompt using your email address to have the information sent to you)</strong></span><br><br></p>
LOCATION:221 Clark Street\, NW Knoxville\, TN
UID:e.9402.633
SEQUENCE:3
DTSTAMP:20260421T090058Z
URL:http://hbaknoxvilletn.memberzone.com/events/details/membership-committee-09-17-2014-633
END:VEVENT

END:VCALENDAR
