BEGIN:VCALENDAR
VERSION:2.0
PRODID:-//ChamberMaster//Event Calendar 2.0//EN
METHOD:PUBLISH
X-PUBLISHED-TTL:P3D
REFRESH-INTERVAL:P3D
CALSCALE:GREGORIAN
BEGIN:VEVENT
DTSTART;VALUE=DATE:20090909
DTEND;VALUE=DATE:20090910
TRANSP:TRANSPARENT
X-MICROSOFT-CDO-ALLDAYEVENT:TRUE
SUMMARY:Membership Committee
DESCRIPTION:Due to a conflict the Membership Committee meeting has been rescheduled for September 9. We apologize for any inconvenience. We will meet at the HBAGK office for lunch. Please respond to let us know if you can attend and if you would like us to order lunch for you. Lunch is available for $6 and we accept cash\, checks and credit cards.
X-ALT-DESC;FMTTYPE=text/html:<p>Due to a conflict the Membership Committee meeting has been&nbsp\;rescheduled for September 9. We apologize for any inconvenience. We will meet at the HBAGK office for lunch. Please respond to let us know if you can attend and if you would like us to order lunch for you. Lunch is available for $6 and we accept cash\, checks and credit cards.</p>
LOCATION:221 Clark Street\, NW Knoxville\, TN
UID:e.9402.182
SEQUENCE:3
DTSTAMP:20260424T215358Z
URL:http://hbaknoxvilletn.memberzone.com/events/details/membership-committee-09-09-2009-182
END:VEVENT

END:VCALENDAR
