BEGIN:VCALENDAR
VERSION:2.0
PRODID:-//ChamberMaster//Event Calendar 2.0//EN
METHOD:PUBLISH
X-PUBLISHED-TTL:P3D
REFRESH-INTERVAL:P3D
CALSCALE:GREGORIAN
BEGIN:VEVENT
DTSTART;VALUE=DATE:20130904
DTEND;VALUE=DATE:20130905
TRANSP:TRANSPARENT
X-MICROSOFT-CDO-ALLDAYEVENT:TRUE
SUMMARY:Membership Committee
DESCRIPTION:It's time to plan our fall Membership Drive and have a party!! We have some great ideas to grow the Association including online payments\, automated credit card payments\, a money-back guarantee and more!\n    \n    We will meet at the Home Builders office at 9 AM Wednesday\, September 4 to lay out our plans for the drive. You can prepare by working on your contact lists for potential members\, and also thinking of FREE incentives to offer new members if they sign up during the official drive\, such as gift cards\, etc. \n    \n    RSVP\n    \n    (You can retrieve your login name & password by clicking the registration link in this message then following the prompt using your email address to have the information sent to you)
X-ALT-DESC;FMTTYPE=text/html:<p>It&#39\;s time to plan our fall Membership Drive and have a party!! We have some great ideas to grow the Association including online payments\, automated credit card payments\, a money-back guarantee and more!<br>    <br>    We will meet at the Home Builders office at 9 AM Wednesday\, September 4 to lay out our plans for the drive. You can prepare by working on your contact lists for potential members\, and also thinking of FREE incentives to offer new members if they sign up during the official drive\, such as gift cards\, etc.&nbsp\;<br>    <br>    RSVP<br>    <br>    <span style=background-color: #ffff00><strong>(You can retrieve your login name &amp\; password by clicking the registration link in this message then following the prompt using your email address to have the information sent to you)</strong></span><br>    &nbsp\;</p>
LOCATION:221 Clark Street\, NW Knoxville\, TN
UID:e.9402.543
SEQUENCE:3
DTSTAMP:20260420T160852Z
URL:http://hbaknoxvilletn.memberzone.com/events/details/membership-committee-09-04-2013-543
END:VEVENT

END:VCALENDAR
