BEGIN:VCALENDAR
VERSION:2.0
PRODID:-//ChamberMaster//Event Calendar 2.0//EN
METHOD:PUBLISH
X-PUBLISHED-TTL:P3D
REFRESH-INTERVAL:P3D
CALSCALE:GREGORIAN
BEGIN:VEVENT
DTSTART;VALUE=DATE:20100805
DTEND;VALUE=DATE:20100806
TRANSP:TRANSPARENT
X-MICROSOFT-CDO-ALLDAYEVENT:TRUE
SUMMARY:Membership Committee
DESCRIPTION:Thank you for volunteering to serve on this committee! We will meet at the HBAGK office at 10:45 AM prior to our New Member Orientation and FREE Hotdog Lunch. Please respond to let us know if you can attend and if you will be staying for lunch so we can prepare enough food.
X-ALT-DESC;FMTTYPE=text/html:<p>Thank you for volunteering to serve on this committee!&nbsp\;We will meet at the HBAGK office at 10:45 AM prior to our New Member Orientation and FREE Hotdog Lunch. Please respond to let us know if you can attend and if you will be staying for lunch so we can prepare enough food.</p>
LOCATION:221 Clark Street\, NW Knoxville\, TN
UID:e.9402.233
SEQUENCE:3
DTSTAMP:20260424T041318Z
URL:http://hbaknoxvilletn.memberzone.com/events/details/membership-committee-08-05-2010-233
END:VEVENT

END:VCALENDAR
