BEGIN:VCALENDAR
VERSION:2.0
PRODID:-//ChamberMaster//Event Calendar 2.0//EN
METHOD:PUBLISH
X-PUBLISHED-TTL:P3D
REFRESH-INTERVAL:P3D
CALSCALE:GREGORIAN
BEGIN:VEVENT
DTSTART;VALUE=DATE:20150520
DTEND;VALUE=DATE:20150521
TRANSP:TRANSPARENT
X-MICROSOFT-CDO-ALLDAYEVENT:TRUE
SUMMARY:Membership Committee
DESCRIPTION:Home Builders' Membership Committee meets Wednesday\, May 20th at the HBAGK office. Lunch is optional\, RSVP\, $10 for salad or sandwich. Thank you for volunteering!!
X-ALT-DESC;FMTTYPE=text/html:Home Builders' Membership Committee meets Wednesday\, May 20th at the HBAGK office. Lunch is optional\, RSVP\, $10 for salad or sandwich. Thank you for volunteering!!
LOCATION:221 Clark Street\, NW Knoxville\, TN
UID:e.9402.695
SEQUENCE:3
DTSTAMP:20260420T140035Z
URL:http://hbaknoxvilletn.memberzone.com/events/details/membership-committee-05-20-2015-695
END:VEVENT

END:VCALENDAR
