BEGIN:VCALENDAR
VERSION:2.0
PRODID:-//ChamberMaster//Event Calendar 2.0//EN
METHOD:PUBLISH
X-PUBLISHED-TTL:P3D
REFRESH-INTERVAL:P3D
CALSCALE:GREGORIAN
BEGIN:VEVENT
DTSTART;VALUE=DATE:20100503
DTEND;VALUE=DATE:20100504
TRANSP:TRANSPARENT
X-MICROSOFT-CDO-ALLDAYEVENT:TRUE
SUMMARY:Membership Committee
DESCRIPTION:Thank you for volunteering to serve on this committee! We will meet at the HBAGK office for lunch. Please respond to let us know if you can attend and if you would like us to order lunch for you. Lunch is available for $6 and we accept cash\, checks and credit cards. The Annual Membership Drive is scheduled for May 19 & 20 at the HBAGK Office with a kick-off party the day before on Tuesday the 18th. We will plan the party and drive at our committee meeting. We also need to gather New Member Incentives for the drive and a form is attached to this message. Our Team Captains for the drive are: 1. Tim Neal 2. Greg Reynolds/Doyle Webb 3. Dennis Sewell 4. Brian Shugart 5. Mike Stevens and 6. Ed Zarb. 7 & 8: TBD.
X-ALT-DESC;FMTTYPE=text/html:<p>Thank you for volunteering to serve on this committee!&nbsp\;We will meet at the HBAGK office for lunch. Please respond to let us know if you can attend and if you would like us to order lunch for you. Lunch is available for $6 and we accept cash\, checks and credit cards.</p> <p>The Annual Membership Drive is scheduled for May 19 &amp\; 20 at the HBAGK Office with a kick-off party the day before on Tuesday the 18th. We will plan the party and drive at our committee meeting. We also need to gather New Member Incentives for the drive and a form is attached to this message. Our Team Captains for the drive are: 1. Tim Neal 2. Greg Reynolds/Doyle Webb 3. Dennis Sewell 4. Brian Shugart 5. Mike Stevens and 6. Ed Zarb. 7 &amp\; 8: TBD.</p>
LOCATION:221 Clark Street\, NW Knoxville\, TN
UID:e.9402.216
SEQUENCE:3
DTSTAMP:20260424T093218Z
URL:http://hbaknoxvilletn.memberzone.com/events/details/membership-committee-05-03-2010-216
END:VEVENT

END:VCALENDAR
