BEGIN:VCALENDAR
VERSION:2.0
PRODID:-//ChamberMaster//Event Calendar 2.0//EN
METHOD:PUBLISH
X-PUBLISHED-TTL:P3D
REFRESH-INTERVAL:P3D
CALSCALE:GREGORIAN
BEGIN:VEVENT
DTSTART;VALUE=DATE:20100419
DTEND;VALUE=DATE:20100420
TRANSP:TRANSPARENT
X-MICROSOFT-CDO-ALLDAYEVENT:TRUE
SUMMARY:Membership Committee
DESCRIPTION:Thank you for volunteering to serve on this committee! We will meet at the HBAGK office for lunch. Please respond to let us know if you can attend and if you would like us to order lunch for you. Lunch is available for $6 and we accept cash\, checks and credit cards. Remember - The Oliver Group membership training will be held at our office on Thursday\, April 15\, time: TBD.
X-ALT-DESC;FMTTYPE=text/html:<p>Thank you for volunteering to serve on this committee!&nbsp\;We will meet at the HBAGK office for lunch. Please respond to let us know if you can attend and if you would like us to order lunch for you. Lunch is available for $6 and we accept cash\, checks and credit cards. Remember - The Oliver Group membership training will be held at our office on Thursday\, April 15\, time: TBD.</p>
LOCATION:221 Clark Street\, NW Knoxville\, TN
UID:e.9402.212
SEQUENCE:3
DTSTAMP:20260424T105207Z
URL:http://hbaknoxvilletn.memberzone.com/events/details/membership-committee-04-19-2010-212
END:VEVENT

END:VCALENDAR
