BEGIN:VCALENDAR
VERSION:2.0
PRODID:-//ChamberMaster//Event Calendar 2.0//EN
METHOD:PUBLISH
X-PUBLISHED-TTL:P3D
REFRESH-INTERVAL:P3D
CALSCALE:GREGORIAN
BEGIN:VEVENT
DTSTART;VALUE=DATE:20120418
DTEND;VALUE=DATE:20120419
TRANSP:TRANSPARENT
X-MICROSOFT-CDO-ALLDAYEVENT:TRUE
SUMMARY:Membership Committee
DESCRIPTION:PLEASE NOTE NEW TIME - Thank you for volunteering to serve on the HBAGK Membership Committee.  We will meet at 10:00 AM\, WEDNESDAY\, 4/18/12 at the HBAGK office. There will be a new member orientation at 10:30 AM prior to our first Hotdog Lunch of the year. The Membership Committee will be the host committee working the hotdog lunch\, and this will be a good time to recruit new committee members.\n    \n    (Hint\, you can retrieve your login name & password by clicking the registration link in this message then following the prompt using your email address to have the information sent to you)\n    \n    If you know of other members who would be good additions to this committee please invite them to join us. Please respond to let us know if you can attend so we can prepare our materials.
X-ALT-DESC;FMTTYPE=text/html:<p>PLEASE NOTE NEW TIME - Thank you for volunteering to serve on the HBAGK Membership Committee.&nbsp\; We will meet at 10:00 AM\,&nbsp\;WEDNESDAY\, 4/18/12&nbsp\;at the HBAGK office.&nbsp\;There will be a new member orientation at 10:30 AM prior to our first Hotdog Lunch of the year. The Membership Committee will be the host committee working the hotdog lunch\, and this will be a good time to recruit new committee members.<br>    <br>    <span style=background-color: #ffff00><strong>(Hint\, you can retrieve your login name &amp\; password by clicking the registration link in this message then following the prompt using your email address to have the information sent to you)</strong></span><br>    <br>    If&nbsp\;you know of other members who would be good additions to this committee please invite them to join us. <span style=color: #ff0000><strong><u>Please respond </u></strong></span>to let us know if you can attend so we can prepare our materials.<br>    <br>    &nbsp\;</p>
LOCATION:221 Clark Street\, NW Knoxville\, TN
UID:e.9402.401
SEQUENCE:3
DTSTAMP:20260422T055313Z
URL:http://hbaknoxvilletn.memberzone.com/events/details/membership-committee-04-18-2012-401
END:VEVENT

END:VCALENDAR
