BEGIN:VCALENDAR
VERSION:2.0
PRODID:-//ChamberMaster//Event Calendar 2.0//EN
METHOD:PUBLISH
X-PUBLISHED-TTL:P3D
REFRESH-INTERVAL:P3D
CALSCALE:GREGORIAN
BEGIN:VEVENT
DTSTART;VALUE=DATE:20120321
DTEND;VALUE=DATE:20120322
TRANSP:TRANSPARENT
X-MICROSOFT-CDO-ALLDAYEVENT:TRUE
SUMMARY:Membership Committee
DESCRIPTION:Thank you for volunteering to serve on the HBAGK Membership Committee.  We will meet at 12:00 PM\, WEDNESDAY\, 3/21/12 at the HBAGK office. \n    \n    LUNCH WILL BE AVAILABLE FOR THIS MEETING BUT YOU NEED TO RSVP AND LET US KNOW IF YOU PLAN TO HAVE LUNCH - COST IS $8 and we accept cash\, checks or credit cards.\n    \n    (Hint\, you can retrieve your login name & password by clicking the registration link in this message then following the prompt using your email address to have the information sent to you)\n    \n    If you know of other members who would be good additions to this committee please invite them to join us. Please respond to let us know if you can attend so we can prepare our materials.\n    \n    Prospective Members: \n                                                                        Contact          Caller          Company          Fname          Lname          Telephone                        1.25.12                                Steve          Chandler                                   1.26.12                     Spec Building Materials          Danny          Cantrell          599-1241                        2.1.12                     Area Wide Roofing          Dale          Epperson          566-6011                        2.8.12                     Mi Banco USA          Anabel          Lino          690-7788                        2.17.12                                Leroy          Brock          606-524-4557                        2.17.12                                Mark          Bunch          329-6207                        2.27.12\n             3.19.12          MSt\n                        RSC Rental\n             Culligan Water          Rusty\n             Jamie          Pate\n             Brubaker          740-0466\n             466-1004
X-ALT-DESC;FMTTYPE=text/html:<p>Thank you for volunteering to serve on the HBAGK Membership Committee.&nbsp\; We will meet at 12:00 PM\,&nbsp\;WEDNESDAY\, 3/21/12&nbsp\;at the HBAGK office.&nbsp\;<br>    <br>    <u>LUNCH WILL BE AVAILABLE FOR THIS MEETING BUT YOU NEED TO RSVP AND LET US KNOW IF YOU PLAN TO HAVE LUNCH - COST IS $8 and we accept cash\, checks or credit cards.</u><br>    <br>    <span style=background-color: #ffff00><strong>(Hint\, you can retrieve your login name &amp\; password by clicking the registration link in this message then following the prompt using your email address to have the information sent to you)</strong></span><br>    <br>    If&nbsp\;you know of other members who would be good additions to this committee please invite them to join us. <span style=color: #ff0000><strong><u>Please respond </u></strong></span>to let us know if you can attend so we can prepare our materials.<br>    <br>    <strong>Prospective Members:</strong></p> <br> <table border=0 cellpadding=0 cellspacing=0 style=width: 473px width=474>    <colgroup>       <col>       <col>       <col>       <col>       <col>       <col>    </colgroup>    <tbody>       <tr height=17>          <td height=17 style=width: 55px\; height: 17px><strong>Contact</strong></td>          <td style=width: 45px><strong>Caller</strong></td>          <td style=width: 173px><strong>Company</strong></td>          <td style=width: 51px><strong>Fname</strong></td>          <td style=width: 63px><strong>Lname</strong></td>          <td style=width: 87px><strong>Telephone</strong></td>       </tr>       <tr height=20>          <td height=20 style=height: 20px>1.25.12</td>          <td>&nbsp\;</td>          <td>&nbsp\;</td>          <td>Steve</td>          <td>Chandler</td>          <td>&nbsp\;</td>       </tr>       <tr height=20>          <td height=20 style=height: 20px>1.26.12</td>          <td>&nbsp\;</td>          <td>Spec Building Materials</td>          <td>Danny</td>          <td>Cantrell</td>          <td>599-1241</td>       </tr>       <tr height=20>          <td height=20 style=height: 20px>2.1.12</td>          <td>&nbsp\;</td>          <td>Area Wide Roofing</td>          <td>Dale</td>          <td>Epperson</td>          <td>566-6011</td>       </tr>       <tr height=20>          <td height=20 style=height: 20px>2.8.12</td>          <td>&nbsp\;</td>          <td>Mi Banco USA</td>          <td>Anabel</td>          <td>Lino</td>          <td>690-7788</td>       </tr>       <tr height=20>          <td height=20 style=height: 20px>2.17.12</td>          <td>&nbsp\;</td>          <td>&nbsp\;</td>          <td>Leroy</td>          <td>Brock</td>          <td>606-524-4557</td>       </tr>       <tr height=20>          <td height=20 style=height: 20px>2.17.12</td>          <td>&nbsp\;</td>          <td>&nbsp\;</td>          <td>Mark</td>          <td>Bunch</td>          <td>329-6207</td>       </tr>       <tr height=20>          <td height=20 style=height: 20px>2.27.12<br>             3.19.12</td>          <td>MSt<br>             &nbsp\;</td>          <td>RSC Rental<br>             Culligan Water</td>          <td>Rusty<br>             Jamie</td>          <td>Pate<br>             Brubaker</td>          <td>740-0466<br>             466-1004</td>       </tr>    </tbody> </table>
LOCATION:221 Clark Street\, NW Knoxville\, TN
UID:e.9402.389
SEQUENCE:3
DTSTAMP:20260422T075616Z
URL:http://hbaknoxvilletn.memberzone.com/events/details/membership-committee-03-21-2012-389
END:VEVENT

END:VCALENDAR
