BEGIN:VCALENDAR
VERSION:2.0
PRODID:-//ChamberMaster//Event Calendar 2.0//EN
METHOD:PUBLISH
X-PUBLISHED-TTL:P3D
REFRESH-INTERVAL:P3D
CALSCALE:GREGORIAN
BEGIN:VEVENT
DTSTART;VALUE=DATE:20130320
DTEND;VALUE=DATE:20130321
TRANSP:TRANSPARENT
X-MICROSOFT-CDO-ALLDAYEVENT:TRUE
SUMMARY:Membership Committee
DESCRIPTION:Thank you for volunteering to serve on the HBAGK Membership Committee.  We hope that you can attend our next meeting on Wednesday\, 3/20 at the HBAGK office. RSVP so we can prepare our materials and order the right amount of food. Lunch is available for $8 if you want it\, or you are welcome to bring your own - thank you!\n    \n    (You can retrieve your login name & password by clicking the registration link in this message then following the prompt using your email address to have the information sent to you)\n    \n    If you know of other members who would be good additions to this committee please invite them to join us. 3/21 - Business After Hours\, Season's in Bearden 5:30 PM
X-ALT-DESC;FMTTYPE=text/html:<p>Thank you for volunteering to serve on the HBAGK Membership Committee. &nbsp\;We hope that you can attend our next meeting on Wednesday\, 3/20 at the HBAGK office.&nbsp\;RSVP so we can prepare our materials and order the right amount of food. Lunch is available for $8 if you want it\, or you are welcome to bring your own - thank you!<br>    <br>    <span style=background-color: #ffff00><strong>(You can retrieve your login name &amp\; password by clicking the registration link in this message then following the prompt using your email address to have the information sent to you)</strong></span><br>    <br>    If&nbsp\;you know of other members who would be good additions to this committee please invite them to join us.</p> 3/21 - Business After Hours\, Season&#39\;s in Bearden 5:30 PM<br> <br>
LOCATION:221 Clark Street\, NW Knoxville\, TN
UID:e.9402.497
SEQUENCE:3
DTSTAMP:20260421T022723Z
URL:http://hbaknoxvilletn.memberzone.com/events/details/membership-committee-03-20-2013-497
END:VEVENT

END:VCALENDAR
